BEGIN:VCALENDAR
VERSION:2.0
PRODID:-//ChamberMaster//Event Calendar 2.0//EN
METHOD:PUBLISH
X-PUBLISHED-TTL:P3D
REFRESH-INTERVAL:P3D
CALSCALE:GREGORIAN
BEGIN:VEVENT
DTSTART:20230613T123000Z
DTEND:20230613T193000Z
X-MICROSOFT-CDO-ALLDAYEVENT:FALSE
SUMMARY:Entrepreneur GrowthCLUB and 90 Day Planning Session - June
DESCRIPTION:Learn More in 1 Day Than You Have in the Last 6 Months...\n\nHow's 2023 shaping up for you? Are you getting the results you said you'd get? Is your plan on track? Do you have a plan?\n\n\n\nWhether you're knocking on the door of your first $200k\, $1m\, or aiming to hit an 8-figure year ($10m or more in revenue)\, there is a fit for you here\, and others already in the community that will contribute directly to your growth and success.\n\nWe all want YOU to be successful\, and we know that you have a wealth of experience that can be helpful to the rest of the community.\n\nVisit to experience what is happening.
X-ALT-DESC;FMTTYPE=text/html:<h2>Learn More in 1 Day Than You Have in the Last 6 Months...</h2>\n\n<h3>How&#39\;s 2023 shaping up for you? Are you getting the results you said you&#39\;d get? Is your plan on track? Do you have a plan?</h3>\n\n<div>\n<div>\n<h3>Whether you&#39\;re knocking on the door of your first $200k\, $1m\, or aiming to hit an 8-figure year ($10m or more in revenue)\,&nbsp\;<strong>there is a fit for you here\, and others already in the community that will contribute directly to your growth and success.</strong></h3>\n\n<h3>We all want YOU to be successful\, and we know that you have a wealth of experience that can be helpful to the rest of the community.</h3>\n\n<h3>Visit to experience what is happening.</h3>\n\n<div>&nbsp\;</div>\n</div>\n</div>\n
LOCATION:1 Haywood St 1 Haywood Street 4th Floor Asheville\, NC 28801
UID:e.2975.5559
SEQUENCE:3
DTSTAMP:20260419T221549Z
URL:https://business.hendersoncountychamber.org/events/details/entrepreneur-growthclub-and-90-day-planning-session-june-5559
END:VEVENT

END:VCALENDAR
