BEGIN:VCALENDAR
VERSION:2.0
PRODID:-//ChamberMaster//Event Calendar 2.0//EN
METHOD:PUBLISH
X-PUBLISHED-TTL:P3D
REFRESH-INTERVAL:P3D
CALSCALE:GREGORIAN
BEGIN:VEVENT
DTSTART:20230511T113000Z
DTEND:20230511T133000Z
X-MICROSOFT-CDO-ALLDAYEVENT:FALSE
SUMMARY:Entrepreneurs Breakfast
DESCRIPTION:Join the Chamber for an inspiring program featuring two area entrepreneur Power Couples\, Cheryl and Brian\, Stuller Power Solutions\, and Toni and Josh\, Warren Restoration. Hear about their journeys and the lessons they learned along the way to create their successful businesses.\n\n\n\n$25 per person.\n\n\n\nThis event is Sponsored by Park National Bank\, Lenoir Rhyne University and Carolina Specialties!
X-ALT-DESC;FMTTYPE=text/html:<span style="color: rgb(77\, 77\, 77)\; font-family: Lato\, sans-serif\; font-size: 18px\; text-align: center\;">Join the Chamber for an inspiring program featuring two area entrepreneur Power Couples\, Cheryl and Brian\, Stuller Power Solutions\, and Toni and Josh\, Warren Restoration. Hear about their journeys and the lessons they learned along the way to create their successful businesses.</span><br style="box-sizing: inherit\; color: rgb(77\, 77\, 77)\; font-family: Lato\, sans-serif\; font-size: 18px\; text-align: center\;" />\n<br style="box-sizing: inherit\; color: rgb(77\, 77\, 77)\; font-family: Lato\, sans-serif\; font-size: 18px\; text-align: center\;" />\n<span style="color: rgb(77\, 77\, 77)\; font-family: Lato\, sans-serif\; font-size: 18px\; text-align: center\;">$25 per person.</span><br style="box-sizing: inherit\; color: rgb(77\, 77\, 77)\; font-family: Lato\, sans-serif\; font-size: 18px\; text-align: center\;" />\n<br style="box-sizing: inherit\; color: rgb(77\, 77\, 77)\; font-family: Lato\, sans-serif\; font-size: 18px\; text-align: center\;" />\n<span style="color: rgb(77\, 77\, 77)\; font-family: Lato\, sans-serif\; font-size: 18px\; text-align: center\;">This event is Sponsored by Park National Bank\, Lenoir Rhyne University and Carolina Specialties!</span>
LOCATION:Highland Lake Inn | Grand Ole Hall | 86 Lily Pad Ln\, Flat Rock
UID:e.2975.5519
SEQUENCE:3
DTSTAMP:20260422T090337Z
URL:https://business.hendersoncountychamber.org/events/details/entrepreneurs-breakfast-5519
END:VEVENT

END:VCALENDAR
