BEGIN:VCALENDAR
VERSION:2.0
PRODID:-//ChamberMaster//Event Calendar 2.0//EN
METHOD:PUBLISH
X-PUBLISHED-TTL:P3D
REFRESH-INTERVAL:P3D
CALSCALE:GREGORIAN
BEGIN:VEVENT
DTSTART:20230111T003000Z
DTEND:20230111T013000Z
X-MICROSOFT-CDO-ALLDAYEVENT:FALSE
SUMMARY:Free Introduction to Brazilian Jiu Jitsu for teens and adults
DESCRIPTION:Come train with Nationally ranked BJJ player James Jones for a free 1 hour introduction to traditional gi Brazilian Jiu Jitsu. This workshop is for teens and adults who want to understand why BJJ is one the best grappling arts in the world when it comes to self defense. Many attacks end up on the ground so register today
X-ALT-DESC;FMTTYPE=text/html:<span style="background-color:rgb(255\, 255\, 255)\; font-family:avenir\; font-size:14px">Come train with Nationally ranked BJJ player James Jones for a free 1 hour introduction to traditional gi Brazilian Jiu Jitsu. This workshop is for teens and adults who want to understand why BJJ is one the best grappling arts in the world when it comes to self defense. Many attacks end up on the ground so register today</span>
LOCATION:Hendokickboxing & Krav Maga 245 N King Street Hendersonville\, NC 28792
UID:e.2975.5229
SEQUENCE:3
DTSTAMP:20260422T160937Z
URL:https://business.hendersoncountychamber.org/events/details/free-introduction-to-brazilian-jiu-jitsu-for-teens-and-adults-5229
END:VEVENT

END:VCALENDAR
