BEGIN:VCALENDAR
VERSION:2.0
PRODID:-//ChamberMaster//Event Calendar 2.0//EN
METHOD:PUBLISH
X-PUBLISHED-TTL:P3D
REFRESH-INTERVAL:P3D
CALSCALE:GREGORIAN
BEGIN:VEVENT
DTSTART:20230219T184500Z
DTEND:20230219T210000Z
X-MICROSOFT-CDO-ALLDAYEVENT:FALSE
SUMMARY:Frostbite 5K\, 10K and 1 Mile Fun Run
DESCRIPTION:Join us for the 31st Annual Frostbite\, the oldest and largest footrace in Henderson County! This in-person running event (with a virtual option) offers a 5K\, 10K\, and 1 Mile Fun Run\, so there's something for the entire family. The Frostbite races begin and finish at the Lelia Patterson Center in Fletcher\, North Carolina.  Both the 10k and 5k courses provide views of Hutch Mountain and are on hilly to challenging terrain\, with some moderate inclines. The flat and fast 1-mile course\, makes this premier racing event an opportunity for all running levels and ages to participate together.
X-ALT-DESC;FMTTYPE=text/html:<span style="background-color:rgb(255\, 255\, 255)\; font-family:open sans\,helvetica\,arial\,lucida\,sans-serif\; font-size:20px">Join us for the 31st Annual Frostbite\, the oldest and largest footrace in Henderson County! This in-person running event (with a virtual option) offers a 5K\, 10K\, and 1 Mile Fun Run\, so there&rsquo\;s something for the entire family. The Frostbite races begin and finish at the Lelia Patterson Center in Fletcher\, North Carolina.&nbsp\; Both the 10k and 5k courses provide views of Hutch Mountain and are on hilly to challenging terrain\, with some moderate inclines. The flat and fast 1-mile course\, makes this premier racing event an opportunity for all running levels and ages to participate together.</span><span style="font-family:open sans\,helvetica\,arial\,lucida\,sans-serif\; font-size:20px">&nbsp\;</span>
LOCATION:Lelia Patterson Center\, 1111 Howard Gap Road\, Fletcher\, NC 28732
UID:e.2975.4128
SEQUENCE:3
DTSTAMP:20260422T132745Z
URL:https://business.hendersoncountychamber.org/events/details/frostbite-5k-10k-and-1-mile-fun-run-4128
END:VEVENT

END:VCALENDAR
