BEGIN:VCALENDAR
VERSION:2.0
PRODID:-//ChamberMaster//Event Calendar 2.0//EN
METHOD:PUBLISH
X-PUBLISHED-TTL:P3D
REFRESH-INTERVAL:P3D
CALSCALE:GREGORIAN
BEGIN:VEVENT
DTSTART:20231028T180000Z
DTEND:20231028T193000Z
X-MICROSOFT-CDO-ALLDAYEVENT:FALSE
SUMMARY:Grand Opening and Ribbon Cutting: SafeNest Storage
DESCRIPTION:Join us as we celebrate the Grand Opening and Ribbon Cutting SafeNest Storage - Hendersonville!\n\n\n\nSafeNest Storage helps you discover the perfect solution to regain your space with their state-of-the-art storage units! They're dedicated to making your storage experience easy\, affordable\, and stress-free. Whether you're a local resident or from the surrounding areas\, they're here to help you find the storage space you need!\n\n\n\nThis Ribbon Cutting and Grand Opening will also be a special time to celebrate the work of Andrea Martin who is dedicating her Mural on the back end of the storage facilities to the City! \n\n\n\nThank you to Duke Energy for sponsoring all events for the 2023 year!
X-ALT-DESC;FMTTYPE=text/html:Join us as we celebrate the Grand Opening and Ribbon Cutting SafeNest Storage - Hendersonville!<br />\n<br />\nSafeNest Storage helps you discover the perfect solution to regain your space with their state-of-the-art storage units! They&#39\;re dedicated to making your storage experience easy\, affordable\, and stress-free. Whether you&#39\;re a local resident or from the surrounding areas\, they&#39\;re here to help you find the storage space you need!<br />\n<br />\nThis Ribbon Cutting and Grand Opening will also be a special time to celebrate the work of Andrea Martin who is dedicating her Mural on the back end of the storage facilities to the City!&nbsp\;<br />\n<br />\nThank you to Duke Energy for sponsoring all events for the 2023 year!
LOCATION:SafeNest Storage | 135 Sugarloaf Rd\, Hendersonville
UID:e.2975.6177
SEQUENCE:3
DTSTAMP:20260419T144917Z
URL:https://business.hendersoncountychamber.org/events/details/grand-opening-and-ribbon-cutting-safenest-storage-6177
END:VEVENT

END:VCALENDAR
