BEGIN:VCALENDAR
VERSION:2.0
PRODID:-//ChamberMaster//Event Calendar 2.0//EN
METHOD:PUBLISH
X-PUBLISHED-TTL:P3D
REFRESH-INTERVAL:P3D
CALSCALE:GREGORIAN
BEGIN:VEVENT
DTSTART:20231114T160000Z
DTEND:20231114T180000Z
X-MICROSOFT-CDO-ALLDAYEVENT:FALSE
SUMMARY:Grand Opening & Ribbon Cutting: 1-Tom Plumber
DESCRIPTION:Join us as we celebrate the Grand Opening and Ribbon Cutting of 1-Tom Plumber! \n\n\n\nWith roots already established in their water damage emergency response business\, Warren Restoration\, Toni and Josh Warren are proud to bring 1-Tom Plumber to our area! With years already dedicated to excellence and a reputation for exceptional service\, 1-Tom Plumber will be a great addition! \n\n \n\n\nThank you to Duke Energy for sponsoring all events for the 2023 year!
X-ALT-DESC;FMTTYPE=text/html:<span style="font-size:12px\;"><span style="font-family:arial\;">Join us as we celebrate the Grand Opening and Ribbon Cutting of 1-Tom Plumber!&nbsp\;<br />\n<br />\nWith roots already established in their water damage emergency response business\, Warren Restoration\, Toni and Josh Warren are proud to bring 1-Tom Plumber to our area! With years already dedicated to excellence and a reputation for exceptional service\, 1-Tom Plumber will be a great addition!&nbsp\;</span></span><br />\n&nbsp\;\n<div class="et_pb_module et_pb_text et_pb_text_0  et_pb_text_align_left et_pb_bg_layout_light" style="box-sizing: border-box\; margin: 0px 0px 44.375px\; padding: 0px\; border: 0px\; outline: 0px\; font-size: 14px\; text-size-adjust: 100%\; vertical-align: baseline\; background: 50% center / cover no-repeat rgba(255\, 255\, 255\, 0.6)\; position: relative\; animation-timing-function: linear\; animation-duration: 0.2s\; overflow-wrap: break-word\; color: rgb(87\, 45\, 45)\; font-family: Montserrat\, Helvetica\, Arial\, Lucida\, sans-serif\;">\n<div class="et_pb_text_inner" style="box-sizing: border-box\; margin: 0px\; padding: 0px\; border: 0px\; outline: 0px\; text-size-adjust: 100%\; vertical-align: baseline\; background: transparent\; position: relative\;">\n<p style="box-sizing: border-box\; margin: 0px\; padding: 0px\; border: 0px\; outline: 0px\; text-size-adjust: 100%\; vertical-align: baseline\; background: transparent\;"><span style="font-size:12px\;"><span style="font-family:arial\;"><span style="background-color: rgb(255\, 255\, 255)\; color: rgb(51\, 51\, 51)\;">Thank you to Duke Energy for sponsoring all events for the 2023 year!</span></span></span></p>\n</div>\n</div>\n
LOCATION:1-Tom Plumber | 9 Legend Dr\, Arden
UID:e.2975.6180
SEQUENCE:3
DTSTAMP:20260419T130911Z
URL:https://business.hendersoncountychamber.org/events/details/grand-opening-ribbon-cutting-1-tom-plumber-6180
END:VEVENT

END:VCALENDAR
