BEGIN:VCALENDAR
VERSION:2.0
PRODID:-//ChamberMaster//Event Calendar 2.0//EN
METHOD:PUBLISH
X-PUBLISHED-TTL:P3D
REFRESH-INTERVAL:P3D
CALSCALE:GREGORIAN
BEGIN:VEVENT
DTSTART:20231115T210000Z
DTEND:20231115T220000Z
X-MICROSOFT-CDO-ALLDAYEVENT:FALSE
SUMMARY:Grand Opening & Ribbon Cutting: CLAYWOOD
DESCRIPTION:Join us as we celebrate the Grand Opening and Ribbon Cutting of the new members\, CLAYWOOD!\n\n \nCLAYWOOD offers a curated and focused list of Wines and Whiskeys along with an array of Mocktails and specialty cocktails. Our artisan charcuterie will feature seasonal delights\, wild game\, imported and locally sourced cured meats\, sausages and house created features. Plus\, a wide array of small plates\, nightly specials and event grazing tables in the Social (Our Private Dinning Room) We focus on crafting our offering and educating in the process. We facilitate an opportunity within our service to see and feel your experience while creating memories with family and friends. \n\n\nThank you to Duke Energy for sponsoring all events for the 2023 year!
X-ALT-DESC;FMTTYPE=text/html:<span style="font-size:14px\;"><span style="font-family:arial\;">Join us as we celebrate the Grand Opening and Ribbon Cutting of the new members\, CLAYWOOD</span></span><span style="font-size:14px\;"><span style="font-family:arial\;">!</span></span><br />\n&nbsp\;\n<p style="margin:0in"><span style="font-size:14px\;"><span style="font-family:arial\;">CLAYWOOD offers a curated and focused list of Wines and Whiskeys along with an array of Mocktails and specialty cocktails. Our artisan charcuterie will feature seasonal delights\, wild game\, imported and locally sourced cured meats\, sausages and house created features. Plus\, a wide array of small plates\, nightly specials and event grazing tables in the Social (Our Private Dinning Room) We focus on crafting our offering and educating in the process. We facilitate an opportunity within our service to see and feel your experience while creating memories with family and friends.&nbsp\;</span></span><span style="font-size:10.0pt\;font-family:&quot\;Helvetica Neue&quot\;\,serif"><o:p></o:p></span></p>\n<br />\n<span style="font-size:14px\;"><span style="font-family:arial\;">Thank you to Duke Energy for sponsoring all events for the 2023 year!</span></span>
LOCATION:CLAYWOOD | 317 7th Ave E\, Hendersonville
UID:e.2975.6193
SEQUENCE:3
DTSTAMP:20260419T132245Z
URL:https://business.hendersoncountychamber.org/events/details/grand-opening-ribbon-cutting-claywood-6193
END:VEVENT

END:VCALENDAR
