BEGIN:VCALENDAR
VERSION:2.0
PRODID:-//ChamberMaster//Event Calendar 2.0//EN
METHOD:PUBLISH
X-PUBLISHED-TTL:P3D
REFRESH-INTERVAL:P3D
CALSCALE:GREGORIAN
BEGIN:VEVENT
DTSTART:20230925T150000Z
DTEND:20230925T160000Z
X-MICROSOFT-CDO-ALLDAYEVENT:FALSE
SUMMARY:Grand Opening & Ribbon Cutting: Dairi-O Hendersonville
DESCRIPTION:Join us as we celebrate the Grand Opening and Ribbon Cutting of the new members\, Dairi-O Hendersonville!\n\n \n\n\nThe Dairi-O tradition of serving great food in a fun atmosphere started back in 1947\, in what was a hamburger joint in King\, NC. That take-out restaurant quickly grew into a popular hangout spot\, well known for its hot dogs and specialty milkshakes.\n\nToday\, residents of King take great pride in the fact that the Dairi-O tradition started right in their backyard. The unique restaurant design with a giant milkshake and two straws is more than just a gathering place where people come to hang out with friends and family while enjoying a great meal\, it is a landmark of the community that commemorate the heritage of King and Dairi-O.\n\nMuch has changed from the day back in 1947 when Dairi-O first opened\, selling hotdogs and hamburgers fresh off the grill. Dairi-O now offers healthier options such as specialty salads\, grilled chicken wraps\, veggie burgers\, and more\, to provide our customers a wider variety of delicious food options.\n\nOne thing hasn't changed\, and that is Dairi-O's commitment to delivering fresh\, premium-quality food to our patrons in a fun and family friendly atmosphere!\n\n\n\nThank you to Duke Energy for sponsoring all events for the 2023 year!
X-ALT-DESC;FMTTYPE=text/html:<span style="font-size:14px\;">Join us as we celebrate the Grand Opening and Ribbon Cutting of the new members\, Dairi-O Hendersonville!</span><br />\n&nbsp\;\n<div class="et_pb_module et_pb_text et_pb_text_0  et_pb_text_align_left et_pb_bg_layout_light" style="box-sizing: border-box\; margin: 0px 0px 44.375px\; padding: 0px\; border: 0px\; outline: 0px\; font-size: 14px\; text-size-adjust: 100%\; vertical-align: baseline\; background: 50% center / cover no-repeat rgba(255\, 255\, 255\, 0.6)\; position: relative\; animation-timing-function: linear\; animation-duration: 0.2s\; overflow-wrap: break-word\; color: rgb(87\, 45\, 45)\; font-family: Montserrat\, Helvetica\, Arial\, Lucida\, sans-serif\;">\n<div class="et_pb_text_inner" style="box-sizing: border-box\; margin: 0px\; padding: 0px\; border: 0px\; outline: 0px\; text-size-adjust: 100%\; vertical-align: baseline\; background: transparent\; position: relative\;">\n<p style="box-sizing: border-box\; margin: 0px\; padding: 0px 0px 1em\; border: 0px\; outline: 0px\; text-size-adjust: 100%\; vertical-align: baseline\; background: transparent\;"><span style="font-size:14px\;">The Dairi-O tradition of serving great food in a fun atmosphere started back in 1947\, in what was a hamburger joint in King\, NC. That take-out restaurant quickly grew into a popular hangout spot\, well known for its hot dogs and specialty milkshakes.</span></p>\n\n<p style="box-sizing: border-box\; margin: 0px\; padding: 0px 0px 1em\; border: 0px\; outline: 0px\; text-size-adjust: 100%\; vertical-align: baseline\; background: transparent\;"><span style="font-size:14px\;">Today\, residents of King take great pride in the fact that the Dairi-O tradition started right in their backyard. The unique restaurant design with a giant milkshake and two straws is more than just a gathering place where people come to hang out with friends and family while enjoying a great meal\, it is a landmark of the community that commemorate the heritage of King and Dairi-O.</span></p>\n\n<p style="box-sizing: border-box\; margin: 0px\; padding: 0px 0px 1em\; border: 0px\; outline: 0px\; text-size-adjust: 100%\; vertical-align: baseline\; background: transparent\;"><span style="font-size:14px\;">Much has changed from the day back in 1947 when Dairi-O first opened\, selling hotdogs and hamburgers fresh off the grill. Dairi-O now offers healthier options such as specialty salads\, grilled chicken wraps\, veggie burgers\, and more\, to provide our customers a wider variety of delicious food options.</span></p>\n\n<p style="box-sizing: border-box\; margin: 0px\; padding: 0px\; border: 0px\; outline: 0px\; text-size-adjust: 100%\; vertical-align: baseline\; background: transparent\;"><span style="font-size:14px\;">One thing hasn&#39\;t changed\, and that is Dairi-O&#39\;s commitment to delivering fresh\, premium-quality food to our patrons in a fun and family friendly atmosphere!<br />\n<br />\n<span style="background-color: rgb(255\, 255\, 255)\; color: rgb(51\, 51\, 51)\;">Thank you to Duke Energy for sponsoring all events for the 2023 year!</span></span></p>\n</div>\n</div>\n
LOCATION:Dairi-O Hendersonville | 140 Upward Rd\, East Flat Rock
UID:e.2975.6161
SEQUENCE:3
DTSTAMP:20260419T164104Z
URL:https://business.hendersoncountychamber.org/events/details/grand-opening-ribbon-cutting-dairi-o-hendersonville-6161
END:VEVENT

END:VCALENDAR
