BEGIN:VCALENDAR
VERSION:2.0
PRODID:-//ChamberMaster//Event Calendar 2.0//EN
METHOD:PUBLISH
X-PUBLISHED-TTL:P3D
REFRESH-INTERVAL:P3D
CALSCALE:GREGORIAN
BEGIN:VEVENT
DTSTART:20230301T180000Z
DTEND:20230301T190000Z
X-MICROSOFT-CDO-ALLDAYEVENT:FALSE
SUMMARY:Grand Opening & Ribbon Cutting: Downtown Hendersonville Parking Garage
DESCRIPTION:We're excited to announce the Grand Opening and Ribbon Cutting of the Parking Garage in Downtown Hendersonville that will allow up to 253 parking spaces for our downtown area.\n\n\n\nLearn more at www.hvlnc.gov/parking.\n\n\n\nThank you to Duke Energy for being the Presenting Sponsor of 2023 Ribbon Cuttings!\n\n\n\nRegistration is required to attend.
X-ALT-DESC;FMTTYPE=text/html:We&#39\;re excited to announce the Grand Opening and Ribbon Cutting of the Parking Garage in Downtown Hendersonville that will allow up to 253 parking spaces for our downtown area.<br />\n<br />\nLearn more at www.hvlnc.gov/parking.<br />\n<br />\nThank you to Duke Energy for being the Presenting Sponsor of 2023 Ribbon Cuttings!<br />\n<br />\nRegistration is required to attend.
LOCATION:415 N. Church St
UID:e.2975.5306
SEQUENCE:3
DTSTAMP:20260422T111658Z
URL:https://business.hendersoncountychamber.org/events/details/grand-opening-ribbon-cutting-downtown-hendersonville-parking-garage-5306
END:VEVENT

END:VCALENDAR
