BEGIN:VCALENDAR
VERSION:2.0
PRODID:-//ChamberMaster//Event Calendar 2.0//EN
METHOD:PUBLISH
X-PUBLISHED-TTL:P3D
REFRESH-INTERVAL:P3D
CALSCALE:GREGORIAN
BEGIN:VEVENT
DTSTART:20221215T163000Z
DTEND:20221215T173000Z
X-MICROSOFT-CDO-ALLDAYEVENT:FALSE
SUMMARY:Grand Opening & Ribbon Cutting: Eagle Self Storage
DESCRIPTION:Join us as we celebrate the Grand Opening & Ribbon Cutting of Eagle Self Storage's new location!\n\n\n\nEagle Self Storage is excited to announce their new location at 2310 Asheville Highway will be offering almost 500 Standard and Climate Controlled units\, as well as\, Enclosed RV/Jumbo Storage.\n\n\n\nCelebrations will include a tour of the facility\, as well as lunch provided by Hot Dog World.
X-ALT-DESC;FMTTYPE=text/html:Join us as we celebrate the Grand Opening &amp\; Ribbon Cutting of Eagle Self Storage&#39\;s new location!<br />\n<br />\nEagle Self Storage is excited to announce their new location at 2310 Asheville Highway will be offering almost 500 Standard and Climate Controlled units\, as well as\, Enclosed RV/Jumbo Storage.<br />\n<br />\nCelebrations will include a tour of the facility\, as well as lunch provided by Hot Dog World.&nbsp\;
LOCATION:Eagle Self Storage | 2310 Asheville HWY\, Hendersonville
UID:e.2975.4614
SEQUENCE:3
DTSTAMP:20260422T164134Z
URL:https://business.hendersoncountychamber.org/events/details/grand-opening-ribbon-cutting-eagle-self-storage-4614
END:VEVENT

END:VCALENDAR
