BEGIN:VCALENDAR
VERSION:2.0
PRODID:-//ChamberMaster//Event Calendar 2.0//EN
METHOD:PUBLISH
X-PUBLISHED-TTL:P3D
REFRESH-INTERVAL:P3D
CALSCALE:GREGORIAN
BEGIN:VEVENT
DTSTART:20230113T210000Z
DTEND:20230113T220000Z
X-MICROSOFT-CDO-ALLDAYEVENT:FALSE
SUMMARY:Grand Opening & Ribbon Cutting: Femwell
DESCRIPTION:Join us as we celebrate the Grand Opening and Ribbon Cutting of Femwell Women's Health and Wellness!\n\n \n\nFemwell is a private practice that consists of a team of health & wellness specialists dedicated solely to working with women. Femwell provides care for women in every stage of life\, pre-conception through menopause\, and offers services in-office\, in-home\, and online. \n\n\n\n2023 Ribbon Cuttings are Sponsored by Duke Energy.
X-ALT-DESC;FMTTYPE=text/html:<div style="color: rgb(64\, 63\, 66)\; font-family: Arial\, Verdana\, Helvetica\, sans-serif\; font-size: 12px\; white-space: pre-wrap\; text-align: center\;"><span style="font-size: 14px\; color: rgb(128\, 128\, 128)\;">Join us as we celebrate the Grand Opening and Ribbon Cutting of Femwell Women&#39\;s Health and Wellness!</span></div>\n\n<div style="color: rgb(64\, 63\, 66)\; font-family: Arial\, Verdana\, Helvetica\, sans-serif\; font-size: 12px\; white-space: pre-wrap\; text-align: center\;">&nbsp\;</div>\n\n<div style="color: rgb(64\, 63\, 66)\; font-family: Arial\, Verdana\, Helvetica\, sans-serif\; font-size: 12px\; white-space: pre-wrap\; text-align: center\;"><span style="font-size: 14px\; color: rgb(128\, 128\, 128)\;">Femwell is a private practice that consists of a team of health &amp\; wellness specialists dedicated solely to working with women. Femwell provides care for women in every stage of life\, pre-conception through menopause\, and offers services in-office\, in-home\, and online.&nbsp\;<br />\n<br />\n2023 Ribbon Cuttings are Sponsored by <a href="https://www.duke-energy.com/home">Duke Energy</a>. </span></div>\n
LOCATION:Femwell Women's Health & Wellness 1903 Asheville Hwy\, Suite A Hendersonville\, NC
UID:e.2975.4716
SEQUENCE:3
DTSTAMP:20260422T154231Z
URL:https://business.hendersoncountychamber.org/events/details/grand-opening-ribbon-cutting-femwell-4716
END:VEVENT

END:VCALENDAR
