BEGIN:VCALENDAR
VERSION:2.0
PRODID:-//ChamberMaster//Event Calendar 2.0//EN
METHOD:PUBLISH
X-PUBLISHED-TTL:P3D
REFRESH-INTERVAL:P3D
CALSCALE:GREGORIAN
BEGIN:VEVENT
DTSTART:20231109T210000Z
DTEND:20231109T230000Z
X-MICROSOFT-CDO-ALLDAYEVENT:FALSE
SUMMARY:Grand Opening & Ribbon Cutting: FYZICALTherapy & Balance Center
DESCRIPTION:Join us as we celebrate the Grand Opening and Ribbon Cutting of the new members\, FYZICAL Therapy & Balance Centers!\n\n\n\nFYZICAL Hendersonville is a medical an scientific-based physical therapy fitness organization with a broad range of expertise. Spelled different because they are different! Founded in collaboration with a medical doctor\, physiologists\, licensed therapists and service business experts\, they provide prescribed physical therapy and medically-based physical fitness. \n\n\n\nThe goal at FYZICAL is to help you discover how to achieve the pinnacle of healthy living\, expand your boundaries\, feel younger and revitalize your health!\n\n\n\nThank you to Duke Energy for sponsoring all events for the 2023 year!
X-ALT-DESC;FMTTYPE=text/html:Join us as we celebrate the Grand Opening and Ribbon Cutting of the new members\, FYZICAL Therapy &amp\; Balance Centers!<br />\n<br />\nFYZICAL Hendersonville is a medical an scientific-based physical therapy fitness organization with a broad range of expertise. Spelled different because they are different! Founded in collaboration with a medical doctor\, physiologists\, licensed therapists and service business experts\, they provide prescribed physical therapy and medically-based physical fitness.&nbsp\;<br />\n<br />\nThe goal at FYZICAL is to help you discover how to achieve the pinnacle of healthy living\, expand your boundaries\, feel younger and revitalize your health!<br />\n<br />\nThank you to Duke Energy for sponsoring all events for the 2023 year!
LOCATION:FYZICAL Therapy & Balance Center | 204 S King St\, Hendersonville
UID:e.2975.6166
SEQUENCE:3
DTSTAMP:20260419T131210Z
URL:https://business.hendersoncountychamber.org/events/details/grand-opening-ribbon-cutting-fyzicaltherapy-balance-center-6166
END:VEVENT

END:VCALENDAR
