BEGIN:VCALENDAR
VERSION:2.0
PRODID:-//ChamberMaster//Event Calendar 2.0//EN
METHOD:PUBLISH
X-PUBLISHED-TTL:P3D
REFRESH-INTERVAL:P3D
CALSCALE:GREGORIAN
BEGIN:VEVENT
DTSTART:20230112T210000Z
DTEND:20230112T220000Z
X-MICROSOFT-CDO-ALLDAYEVENT:FALSE
SUMMARY:Grand Opening & Ribbon Cutting: Guidon Brewing Company
DESCRIPTION:Join us as we celebrate the Grand Opening and Ribbon Cutting of Guidon Brewing Company's second location in Hendersonville\, also known as the Guidon Brewing Outpost! At this location\, they will serve Guidon Beers\, wines and local ciders.\n\n \n\nGuidon Brewing Company is a veteran\, American\, German\, and family owned and operated company dedicated to the art of brewing high quality\, carefully crafted beer.\n\n\n\n2023 Ribbon Cuttings are Sponsored by Duke Energy
X-ALT-DESC;FMTTYPE=text/html:<div align="center" style="color: rgb(64\, 63\, 66)\; font-family: Arial\, Verdana\, Helvetica\, sans-serif\; font-size: 12px\; text-align: center\;"><span style="font-size: 14px\; color: rgb(128\, 128\, 128)\;">Join us as we celebrate the Grand Opening and Ribbon Cutting of Guidon Brewing Company&#39\;s second location in Hendersonville\, also known as the Guidon Brewing Outpost! At this location\, they will serve Guidon Beers\, wines and local ciders.</span></div>\n\n<div align="center" style="color: rgb(64\, 63\, 66)\; font-family: Arial\, Verdana\, Helvetica\, sans-serif\; font-size: 12px\; text-align: center\;">&nbsp\;</div>\n\n<div align="center" style="color: rgb(64\, 63\, 66)\; font-family: Arial\, Verdana\, Helvetica\, sans-serif\; font-size: 12px\; text-align: center\;"><span style="font-size: 14px\; color: rgb(128\, 128\, 128)\;">Guidon Brewing Company is a veteran\, American\, German\, and family owned and operated company dedicated to the art of brewing high quality\, carefully crafted beer.</span><br />\n<br />\n<span style="box-sizing: content-box\; inset: auto\; clear: none\; color: rgb(128\, 128\, 128)\; content: normal\; direction: inherit\; empty-cells: show\; font-variant-numeric: inherit\; font-variant-east-asian: inherit\; font-stretch: inherit\; font-size: 14px\; font-family: Arial\, Verdana\, Helvetica\, sans-serif\; line-height: inherit\; margin: 0px\; max-height: none\; max-width: none\; min-height: initial\; min-width: initial\; opacity: 1\; outline-offset: 0px\; overflow: visible\; padding: 0px\; position: static\; resize: none\; table-layout: auto\; text-align: center\; text-overflow: clip\; vertical-align: baseline\; visibility: inherit\; word-break: inherit\; overflow-wrap: inherit\; z-index: auto\; background-image: none\; background-position: initial\; background-size: initial\; background-repeat: initial\; background-attachment: initial\; background-origin: initial\; background-clip: initial\; border-width: initial\; border-style: none\; border-color: initial\; border-collapse: separate\; border-image: none 100% 1 0 / 1 / 0 stretch\; border-radius: 0px\; height: auto\; width: auto\; box-shadow: none\;">2023 Ribbon Cuttings are Sponsored by</span><span style="box-sizing: content-box\; inset: auto\; clear: none\; color: rgb(64\, 63\, 66)\; content: normal\; direction: inherit\; empty-cells: show\; font-variant-numeric: inherit\; font-variant-east-asian: inherit\; font-stretch: inherit\; font-size: 14px\; font-family: Arial\, Verdana\, Helvetica\, sans-serif\; line-height: inherit\; margin: 0px\; max-height: none\; max-width: none\; min-height: initial\; min-width: initial\; opacity: 1\; outline-offset: 0px\; overflow: visible\; padding: 0px\; position: static\; resize: none\; table-layout: auto\; text-align: center\; text-overflow: clip\; vertical-align: baseline\; visibility: inherit\; word-break: inherit\; overflow-wrap: inherit\; z-index: auto\; background-image: none\; background-position: initial\; background-size: initial\; background-repeat: initial\; background-attachment: initial\; background-origin: initial\; background-clip: initial\; border-width: initial\; border-style: none\; border-color: initial\; border-collapse: separate\; border-image: none 100% 1 0 / 1 / 0 stretch\; border-radius: 0px\; height: auto\; width: auto\; box-shadow: none\;">&nbsp\;<a href="https://www.duke-energy.com/home" style="box-sizing: content-box\; color: rgb(34\, 72\, 132)\; font: inherit\; text-decoration-line: none\; inset: auto\; clear: none\; content: normal\; direction: inherit\; display: inline\; empty-cells: show\; float: none\; letter-spacing: inherit\; margin: 0px\; max-height: none\; max-width: none\; min-height: initial\; min-width: initial\; opacity: 1\; outline-offset: 0px\; overflow: visible\; padding: 0px\; position: static\; resize: none\; table-layout: auto\; text-align: inherit\; text-indent: inherit\; text-overflow: clip\; text-transform: inherit\; vertical-align: baseline\; visibility: inherit\; white-space: inherit\; word-break: inherit\; word-spacing: inherit\; overflow-wrap: break-word\; z-index: auto\; background: none\; border-width: initial\; border-style: none\; border-color: initial\; border-collapse: separate\; border-image: none 100% 1 0 / 1 / 0 stretch\; border-radius: 0px\; height: auto\; width: auto\; box-shadow: none\;">Duke Energy</a></span></div>\n
LOCATION:2120 Brevard Rd\, Hendersonville
UID:e.2975.5207
SEQUENCE:3
DTSTAMP:20260422T155929Z
URL:https://business.hendersoncountychamber.org/events/details/grand-opening-ribbon-cutting-guidon-brewing-company-5207
END:VEVENT

END:VCALENDAR
