BEGIN:VCALENDAR
VERSION:2.0
PRODID:-//ChamberMaster//Event Calendar 2.0//EN
METHOD:PUBLISH
X-PUBLISHED-TTL:P3D
REFRESH-INTERVAL:P3D
CALSCALE:GREGORIAN
BEGIN:VEVENT
DTSTART:20230908T160000Z
DTEND:20230908T170000Z
X-MICROSOFT-CDO-ALLDAYEVENT:FALSE
SUMMARY:Grand Opening & Ribbon Cutting: Hendersonville Outfitters
DESCRIPTION:Join us as we celebrate new members\, Hendersonville Outfitters with a Grand Opening and Ribbon Cutting!\n\n\n\nHendersonville Outfitters is a new fly fishing and tackle retail store with kind knowledgably staff who are willing to help all\, from those who already enjoy the sport to those who are just getting into it! \n\n\n\nThank you to Duke Energy for sponsoring all events for the 2023 year!
X-ALT-DESC;FMTTYPE=text/html:Join us as we celebrate new members\, Hendersonville Outfitters with a Grand Opening and Ribbon Cutting!<br />\n<br />\nHendersonville Outfitters is a new fly fishing and tackle retail store with kind knowledgably staff who are willing to help all\, from those who already enjoy the sport to those who are just getting into it!&nbsp\;<br />\n<br />\nThank you to Duke Energy for sponsoring all events for the 2023 year!
LOCATION:Hendersonville Outfitters | 144 3rd Ave West\, Hendersonville
UID:e.2975.6128
SEQUENCE:3
DTSTAMP:20260419T182521Z
URL:https://business.hendersoncountychamber.org/events/details/grand-opening-ribbon-cutting-hendersonville-outfitters-6128
END:VEVENT

END:VCALENDAR
