BEGIN:VCALENDAR
VERSION:2.0
PRODID:-//ChamberMaster//Event Calendar 2.0//EN
METHOD:PUBLISH
X-PUBLISHED-TTL:P3D
REFRESH-INTERVAL:P3D
CALSCALE:GREGORIAN
BEGIN:VEVENT
DTSTART:20230221T210000Z
DTEND:20230221T220000Z
X-MICROSOFT-CDO-ALLDAYEVENT:FALSE
SUMMARY:Grand Opening & Ribbon Cutting: Hendersonville Toy Company
DESCRIPTION:Join us as we celebrate the Grand Opening & Ribbon Cutting of Hendersonville Toy Company! More than just your average toy store\, Hendersonville Toy Company offers a variety of toys\, adult & youth games\, and a great selection of books and stationary items! \n\n\n\n\n\n**Please park at the Wells Fargo or Chamber of Commerce**
X-ALT-DESC;FMTTYPE=text/html:Join us as we celebrate the Grand Opening &amp\; Ribbon Cutting of Hendersonville Toy Company! More than just your average toy store\, Hendersonville Toy Company offers a variety of toys\, adult &amp\; youth games\, and a great selection of books and stationary items!&nbsp\;<br />\n<br />\n<br />\n**Please park at the Wells Fargo or Chamber of Commerce**<br />\n&nbsp\;
LOCATION:315 S Church St\, Hendersonville
UID:e.2975.5253
SEQUENCE:3
DTSTAMP:20260422T124319Z
URL:https://business.hendersoncountychamber.org/events/details/grand-opening-ribbon-cutting-hendersonville-toy-company-5253
END:VEVENT

END:VCALENDAR
