BEGIN:VCALENDAR
VERSION:2.0
PRODID:-//ChamberMaster//Event Calendar 2.0//EN
METHOD:PUBLISH
X-PUBLISHED-TTL:P3D
REFRESH-INTERVAL:P3D
CALSCALE:GREGORIAN
BEGIN:VEVENT
DTSTART:20231103T160000Z
DTEND:20231103T170000Z
X-MICROSOFT-CDO-ALLDAYEVENT:FALSE
SUMMARY:Grand Opening & Ribbon Cutting: JTF Taekwondo
DESCRIPTION:Join us as we celebrate the Grand Opening and Ribbon Cutting of the JTF Taekwondo\n\n\n\nJ.T.F Taekwondo will have their open house and ribbon cutting\n\nceremony on Friday\, November 3rd from 12:00-1:00 p.m. at 204 Highlands Square Dr.\,\n\nin Hendersonville\, NC. The new school location is conveniently located in the Walmart\n\nShopping Center\, right next-door to the Cato clothing store.\n\n\n\n9th Degree Black Belt Taekwondo Grandmaster Robert Dunn realized there was a need\n\nfor a traditional Taekwondo Martial Arts school right here in Hendersonville\, NC. His wife\n\nand their 12 year old son\, a junior black belt himself\, couldn't agree more.\n\n\n\n"We see this school as offering so much more than just Taekwondo lessons\, says Mrs.\n\nDunn\, we see it as a way for students of all ages to build friendships and a sense of\n\ncommunity. As parents ourselves\, we love that it also gives kids a healthy screen time\n\nalternative!" Naturally\, Taekwondo teaches great self defense skills and improves\n\nstrength and overall physical fitness too.\n\n\n\nCome learn more about them and celebrate a small locally owned business.\n\nThe ribbon-cutting ceremony will be hosted by the Henderson County Chamber of\n\nCommerce. For more information about the event\, visit www.JTFtaekwondo.com.\n\n\n\nThank you to Duke Energy for sponsoring all events for the 2023 year!
X-ALT-DESC;FMTTYPE=text/html:Join us as we celebrate the Grand Opening and Ribbon Cutting of the JTF Taekwondo<br />\n<br />\nJ.T.F Taekwondo will have their open house and ribbon cutting<br />\nceremony on Friday\, November 3rd from 12:00-1:00 p.m. at 204 Highlands Square Dr.\,<br />\nin Hendersonville\, NC. The new school location is conveniently located in the Walmart<br />\nShopping Center\, right next-door to the Cato clothing store.<br />\n<br />\n9th Degree Black Belt Taekwondo Grandmaster Robert Dunn realized there was a need<br />\nfor a traditional Taekwondo Martial Arts school right here in Hendersonville\, NC. His wife<br />\nand their 12 year old son\, a junior black belt himself\, couldn&rsquo\;t agree more.<br />\n<br />\n&ldquo\;We see this school as offering so much more than just Taekwondo lessons\, says Mrs.<br />\nDunn\, we see it as a way for students of all ages to build friendships and a sense of<br />\ncommunity. As parents ourselves\, we love that it also gives kids a healthy screen time<br />\nalternative!&rdquo\; Naturally\, Taekwondo teaches great self defense skills and improves<br />\nstrength and overall physical fitness too.<br />\n<br />\nCome learn more about them and celebrate a small locally owned business.<br />\nThe ribbon-cutting ceremony will be hosted by the Henderson County Chamber of<br />\nCommerce. For more information about the event\, visit www.JTFtaekwondo.com.<br />\n<br />\nThank you to Duke Energy for sponsoring all events for the 2023 year!
LOCATION:JTF Taekwondo | 204 Highlands Square Dr\, Hendersonville
UID:e.2975.6170
SEQUENCE:3
DTSTAMP:20260419T131043Z
URL:https://business.hendersoncountychamber.org/events/details/grand-opening-ribbon-cutting-jtf-taekwondo-6170
END:VEVENT

END:VCALENDAR
