BEGIN:VCALENDAR
VERSION:2.0
PRODID:-//ChamberMaster//Event Calendar 2.0//EN
METHOD:PUBLISH
X-PUBLISHED-TTL:P3D
REFRESH-INTERVAL:P3D
CALSCALE:GREGORIAN
BEGIN:VEVENT
DTSTART:20231117T140000Z
DTEND:20231117T150000Z
X-MICROSOFT-CDO-ALLDAYEVENT:FALSE
SUMMARY:Grand Opening & Ribbon Cutting: Self-Help Credit Union
DESCRIPTION:Join us as we celebrate the Grand Opening and Ribbon Cutting of Self-Help Credit Union's newest location!\n\n\n\nSelf-Help Credit Union is a community focused financial institution dedicated to promoting financial inclusion and economic empowerment. Founded in 1980 in NC\, they are now one of the fastest growing community development financial institutions in the country. \n\n\n\nTheir newest location is located off of Dana and Four Seasons Blvd! \n\n\n\nThank you to Duke Energy for sponsoring all events for the 2023 year!
X-ALT-DESC;FMTTYPE=text/html:Join us as we celebrate the Grand Opening and Ribbon Cutting of Self-Help Credit Union&#39\;s newest location!<br />\n<br />\nSelf-Help Credit Union is a community focused financial institution dedicated to promoting financial inclusion and economic empowerment. Founded in 1980 in NC\, they are now one of the fastest growing community development financial institutions in the country.&nbsp\;<br />\n<br />\nTheir newest location is located off of Dana and Four Seasons Blvd!&nbsp\;<br />\n<br />\nThank you to Duke Energy for sponsoring all events for the 2023 year!
LOCATION:Self-Help Credit Union | 100 Dana Rd\, Hendersonville
UID:e.2975.6186
SEQUENCE:3
DTSTAMP:20260419T131045Z
URL:https://business.hendersoncountychamber.org/events/details/grand-opening-ribbon-cutting-self-help-credit-union-11-17-2023-6186
END:VEVENT

END:VCALENDAR
