BEGIN:VCALENDAR
VERSION:2.0
PRODID:-//ChamberMaster//Event Calendar 2.0//EN
METHOD:PUBLISH
X-PUBLISHED-TTL:P3D
REFRESH-INTERVAL:P3D
CALSCALE:GREGORIAN
BEGIN:VEVENT
DTSTART:20230811T190000Z
DTEND:20230811T200000Z
X-MICROSOFT-CDO-ALLDAYEVENT:FALSE
SUMMARY:Grand Opening & Ribbon Cutting: The Main Event WNC Inc
DESCRIPTION:Join us as we celebrate the Grand Opening and Ribbon Cutting The Main Event WNC Inc.\n\n\n\nThe Main Event is an event space located off of Main Street in Downtown Hendersonville. Their primary objective is to offer clients a contemporary\, sophisticated\, and adaptable venue for various occasions\, including weddings\, corporate events\, parties and more!\n\n\n\nThey provide full-service coffee station and bar\, ensuring guests have access to refreshments throughout their events. The Main Event also offers a range of event-planning services to assist clients in organizing and executing their events seamlessly. \n\n\n\nThank you to Duke Energy for sponsoring all events for the 2023 year!
X-ALT-DESC;FMTTYPE=text/html:Join us as we celebrate the Grand Opening and Ribbon Cutting The Main Event WNC Inc.<br />\n<br />\nThe Main Event is an event space located off of Main Street in Downtown Hendersonville. Their primary objective is to offer clients a contemporary\, sophisticated\, and adaptable venue for various occasions\, including weddings\, corporate events\, parties and more!<br />\n<br />\nThey provide full-service coffee station and bar\, ensuring guests have access to refreshments throughout their events. The Main Event also offers a range of event-planning services to assist clients in organizing and executing their events seamlessly.&nbsp\;<br />\n<br />\nThank you to Duke Energy for sponsoring all events for the 2023 year!
LOCATION:The Main Event WNC Inc | 125 S. Main St\, Hendersonville
UID:e.2975.5852
SEQUENCE:3
DTSTAMP:20260419T201749Z
URL:https://business.hendersoncountychamber.org/events/details/grand-opening-ribbon-cutting-the-main-event-wnc-inc-5852
END:VEVENT

END:VCALENDAR
