BEGIN:VCALENDAR
VERSION:2.0
PRODID:-//ChamberMaster//Event Calendar 2.0//EN
METHOD:PUBLISH
X-PUBLISHED-TTL:P3D
REFRESH-INTERVAL:P3D
CALSCALE:GREGORIAN
BEGIN:VEVENT
DTSTART:20221003T150000Z
DTEND:20221003T160000Z
X-MICROSOFT-CDO-ALLDAYEVENT:FALSE
SUMMARY:Grand Opening & Ribbon Cutting: Tokyo Toybox
DESCRIPTION:Join us as we celebrate Grand Opening and Ribbon Cutting of new member and winner of The American Dream Project\, Tokyo Toybox. \n\n\n\nThis Pop-Up Shop will be located inside the Blue Ridge Mall through the holiday seasons of 2022!\n\n\n\nThey are dedicated to selling only verified licensed products from your favorite Anime Shows\, and other television shows\, as well as from Pop Culture.
X-ALT-DESC;FMTTYPE=text/html:Join us as we celebrate Grand Opening and Ribbon Cutting of new member and winner of The American Dream Project\, Tokyo Toybox.&nbsp\;<br>\n<br>\nThis Pop-Up Shop will be located inside the Blue Ridge Mall through the holiday seasons of 2022!<br>\n<br>\nThey are dedicated to selling only verified licensed products from your favorite Anime Shows\, and other television shows\, as well as from Pop Culture.&nbsp\;
LOCATION:Tokyo Toybox | 1800 4 Seasons BLVD\, Suite G15\, Hendersonville | Located inside Blue Ridge Mall
UID:e.2975.4588
SEQUENCE:3
DTSTAMP:20260422T203049Z
URL:https://business.hendersoncountychamber.org/events/details/grand-opening-ribbon-cutting-tokyo-toybox-4588
END:VEVENT

END:VCALENDAR
