BEGIN:VCALENDAR
VERSION:2.0
PRODID:-//ChamberMaster//Event Calendar 2.0//EN
METHOD:PUBLISH
X-PUBLISHED-TTL:P3D
REFRESH-INTERVAL:P3D
CALSCALE:GREGORIAN
BEGIN:VEVENT
DTSTART:20221101T200000Z
DTEND:20221101T210000Z
X-MICROSOFT-CDO-ALLDAYEVENT:FALSE
SUMMARY:Grand Opening & Ribbon Cutting: We Sell WNC
DESCRIPTION:Join us as we celebrate the Grand Opening and Ribbon Cutting of We Sell WNC's new location off of Kanuga\, from 4:00 PM - 6:00 PM. Ribbon Cutting Ceremony will start at 4:30 PM. \n\n\n\nWe Sell WNC is a full service real estate team here in Henderson County! With their years of knowledge in real estate and construction\, they can assist their clients with both buying and selling homes all across the WNC region.\n\n\n\nOverflow parking is at Dry Falls Brewing.
X-ALT-DESC;FMTTYPE=text/html:Join us as we celebrate the Grand Opening and Ribbon Cutting of We Sell WNC&#39\;s new location off of Kanuga\, from 4:00 PM - 6:00 PM. Ribbon Cutting Ceremony will start at 4:30 PM.&nbsp\;<br />\n<br />\nWe Sell WNC is a full service real estate team here in Henderson County! With their years of knowledge in real estate and construction\, they can assist their clients with both buying and selling homes all across the WNC region.<br />\n<br />\nOverflow parking is at Dry Falls Brewing.&nbsp\;<br />\n&nbsp\;
LOCATION:We Sell WNC | 420 Kanuga Rd\, Hendersonville
UID:e.2975.4606
SEQUENCE:3
DTSTAMP:20260422T185807Z
URL:https://business.hendersoncountychamber.org/events/details/grand-opening-ribbon-cutting-we-sell-wnc-4606
END:VEVENT

END:VCALENDAR
