BEGIN:VCALENDAR
VERSION:2.0
PRODID:-//ChamberMaster//Event Calendar 2.0//EN
METHOD:PUBLISH
X-PUBLISHED-TTL:P3D
REFRESH-INTERVAL:P3D
CALSCALE:GREGORIAN
BEGIN:VEVENT
DTSTART:20231010T140000Z
DTEND:20231010T150000Z
X-MICROSOFT-CDO-ALLDAYEVENT:FALSE
SUMMARY:Ground Breaking: AdventHealth Medical Office
DESCRIPTION:Join us as we celebrate AdventHealth in a new medical office building Ground Breaking!\n\n\n\nFor more than 100 years\, AdventHealth Hendersonville has been growing lifelong relationships with the families of our community through whole-person care ? body\, mind and spirit. \n\n\n\nAdventHealth is excited to begin work on this state-of-the-art building that will be the future home to a number of clinical services including procedure rooms\, physician offices\, laboratory and imaging services.
X-ALT-DESC;FMTTYPE=text/html:<span style="font-size:12px\;"><span style="font-family:arial\;">Join us as we celebrate AdventHealth in a new medical office building Ground Breaking!<br />\n<br />\nFor more than 100 years\, AdventHealth Hendersonville has been growing lifelong relationships with the families of our community through whole-person care ? body\, mind and spirit.&nbsp\;<br />\n<br />\nAdventHealth is excited to begin work on this state-of-the-art building that will be the future home to a number of clinical services including procedure rooms\, physician offices\, laboratory and imaging services.</span></span>
LOCATION:1151 Naples Rd\, Hendersonville *Please park at the above address\, across from the hospital campus **Shuttles will begin 30 minutes prior to the event and run for 30 minutes after the event.
UID:e.2975.6172
SEQUENCE:3
DTSTAMP:20260419T144548Z
URL:https://business.hendersoncountychamber.org/events/details/ground-breaking-adventhealth-medical-office-6172
END:VEVENT

END:VCALENDAR
