BEGIN:VCALENDAR
VERSION:2.0
PRODID:-//ChamberMaster//Event Calendar 2.0//EN
METHOD:PUBLISH
X-PUBLISHED-TTL:P3D
REFRESH-INTERVAL:P3D
CALSCALE:GREGORIAN
BEGIN:VEVENT
DTSTART:20230328T210000Z
DTEND:20230328T223000Z
X-MICROSOFT-CDO-ALLDAYEVENT:FALSE
SUMMARY:GROW Mills River
DESCRIPTION:Gather   Relate   Organize   Work \n\nJoin us to stay updated on business in Mills River. With updates from the Town of Mills River and networking with neighboring businesses\, let's work to GROW your business in Mills River. \n\n \n\nOur first quarter mixer is Sponsored by NC Farm Bureau - Mills River\, Brandon Adams.
X-ALT-DESC;FMTTYPE=text/html:<div style="color: rgb(68\, 68\, 68)\; font-family: Calibri\, Helvetica\, Arial\, sans-serif\; font-size: 14px\; white-space: pre-wrap\; background-color: rgb(235\, 235\, 235)\; text-align: center\;"><span style="color: rgb(51\, 51\, 51)\; font-family: Arial\, Verdana\, Helvetica\, sans-serif\;">Gather &#9679\; Relate &#9679\; Organize &#9679\; Work&nbsp\;</span></div>\n\n<div style="color: rgb(68\, 68\, 68)\; font-family: Calibri\, Helvetica\, Arial\, sans-serif\; font-size: 14px\; white-space: pre-wrap\; background-color: rgb(235\, 235\, 235)\; text-align: center\;"><span style="color: rgb(51\, 51\, 51)\; font-family: Arial\, Verdana\, Helvetica\, sans-serif\;">Join us to stay updated on business in Mills River. With updates from the Town of Mills River and networking with neighboring businesses\, let&#39\;s work to GROW your business in Mills River.&nbsp\;</span></div>\n\n<div style="color: rgb(68\, 68\, 68)\; font-family: Calibri\, Helvetica\, Arial\, sans-serif\; font-size: 14px\; white-space: pre-wrap\; background-color: rgb(235\, 235\, 235)\; text-align: center\;">&nbsp\;</div>\n\n<div style="color: rgb(68\, 68\, 68)\; font-family: Calibri\, Helvetica\, Arial\, sans-serif\; font-size: 14px\; white-space: pre-wrap\; background-color: rgb(235\, 235\, 235)\; text-align: center\;"><span style="font-family: Arial\, Verdana\, Helvetica\, sans-serif\;">Our first quarter mixer is Sponsored by NC Farm Bureau - Mills River\, Brandon Adams.</span></div>\n
LOCATION:Burning Blush Brewery 4891 Boylston Hwy Mills River\, NC 28759
UID:e.2975.5349
SEQUENCE:3
DTSTAMP:20260422T110854Z
URL:https://business.hendersoncountychamber.org/events/details/grow-mills-river-5349
END:VEVENT

END:VCALENDAR
