BEGIN:VCALENDAR
VERSION:2.0
PRODID:-//ChamberMaster//Event Calendar 2.0//EN
METHOD:PUBLISH
X-PUBLISHED-TTL:P3D
REFRESH-INTERVAL:P3D
CALSCALE:GREGORIAN
BEGIN:VEVENT
DTSTART:20230425T120000Z
DTEND:20230425T130000Z
X-MICROSOFT-CDO-ALLDAYEVENT:FALSE
SUMMARY:GROW Mills River
DESCRIPTION:Gather   Relate   Organize   Work \n\n Tuesday\, April 25th | 8:00 AM - 9:00 AM\n\n\n\nJoin us each month to stay updated on business in Mills River.\n\nWith updates from the Town of Mills River and networking with neighboring businesses\, let's work to GROW your business in Mills River.
X-ALT-DESC;FMTTYPE=text/html:<h1 style="box-sizing: inherit\; margin: 0.2rem 0px 0.5rem\; padding: 0px\; color: rgb(36\, 73\, 158)\; font-variant-numeric: normal\; font-variant-east-asian: normal\; font-variant-alternates: normal\; font-kerning: auto\; font-optical-sizing: auto\; font-feature-settings: normal\; font-variation-settings: normal\; font-stretch: normal\; font-size: 2.5rem\; line-height: normal\; font-family: &quot\;Open Sans&quot\;\, sans-serif\; text-rendering: optimizelegibility\; text-align: center\;">Gather &#9679\; Relate &#9679\; Organize &#9679\; Work&nbsp\;</h1>\n\n<p style="box-sizing: inherit\; margin: 0px 0px 1.25rem\; padding: 0px\; font-variant-numeric: normal\; font-variant-east-asian: normal\; font-variant-alternates: normal\; font-kerning: auto\; font-optical-sizing: auto\; font-feature-settings: normal\; font-variation-settings: normal\; font-stretch: normal\; font-size: 1.125rem\; line-height: 1.6\; font-family: Lato\, sans-serif\; text-rendering: optimizelegibility\; color: rgb(77\, 77\, 77)\; text-align: center\;">&nbsp\;Tuesday\, April 25th | 8:00 AM - 9:00 AM<br />\n<br style="box-sizing: inherit\;" />\nJoin us each month to stay updated on business in Mills River.<br style="box-sizing: inherit\;" />\nWith updates from the Town of Mills River and networking with neighboring businesses\, let&#39\;s work to GROW your business in Mills River.</p>\n
LOCATION:The Riveter 107 Old Fanning Bridge Road
UID:e.2975.5521
SEQUENCE:3
DTSTAMP:20260422T105446Z
URL:https://business.hendersoncountychamber.org/events/details/grow-mills-river-5521
END:VEVENT

END:VCALENDAR
