BEGIN:VCALENDAR
VERSION:2.0
PRODID:-//ChamberMaster//Event Calendar 2.0//EN
METHOD:PUBLISH
X-PUBLISHED-TTL:P3D
REFRESH-INTERVAL:P3D
CALSCALE:GREGORIAN
BEGIN:VEVENT
DTSTART:20230523T210000Z
DTEND:20230523T223000Z
X-MICROSOFT-CDO-ALLDAYEVENT:FALSE
SUMMARY:GROW Mills River
DESCRIPTION:Gather   Relate   Organize   Work \n\nJoin us to stay updated on business in Mills River. With updates from the Town of Mills River and networking with neighboring businesses\, let's work to GROW your business in Mills River.
X-ALT-DESC;FMTTYPE=text/html:<strong>Gather &#9679\; Relate &#9679\; Organize &#9679\; Work&nbsp\;</strong><br />\nJoin us to stay updated on business in Mills River. With updates from the Town of Mills River and networking with neighboring businesses\, let&#39\;s work to GROW your business in Mills River.&nbsp\;<br />\n<br />\n&nbsp\;
LOCATION:Mills River Brewing Co. 336 Banner Farm Rd. Mills River\, NC 28759
UID:e.2975.5554
SEQUENCE:3
DTSTAMP:20260422T090353Z
URL:https://business.hendersoncountychamber.org/events/details/grow-mills-river-5554
END:VEVENT

END:VCALENDAR
