BEGIN:VCALENDAR
VERSION:2.0
PRODID:-//ChamberMaster//Event Calendar 2.0//EN
METHOD:PUBLISH
X-PUBLISHED-TTL:P3D
REFRESH-INTERVAL:P3D
CALSCALE:GREGORIAN
BEGIN:VEVENT
DTSTART:20230725T120000Z
DTEND:20230725T130000Z
X-MICROSOFT-CDO-ALLDAYEVENT:FALSE
SUMMARY:GROW Mills River Breakfast
DESCRIPTION:Gather   Relate   Organize   Work \n\n \n\nJoin us each month to stay updated on business in Mills River.\n\nWith updates from the Town of Mills River and networking with neighboring businesses\, let's work to GROW your business in Mills River.\n\n \n\nThis month\, we will hear from Asheville Regional Airport's Vice President of Marketing\, Public Relations and Air Service\, Tina Kinsey.
X-ALT-DESC;FMTTYPE=text/html:<div style="color: rgb(64\, 63\, 66)\; font-family: Arial\, Verdana\, Helvetica\, sans-serif\; font-size: 12px\; white-space: pre-wrap\; text-align: center\;">\n<div style="color: rgb(68\, 68\, 68)\; font-family: Calibri\, Helvetica\, Arial\, sans-serif\; font-size: 14px\; white-space-collapse: preserve\; background-color: rgb(235\, 235\, 235)\; text-align: center\;"><span style="font-size: 16px\; color: rgb(80\, 94\, 107)\; font-family: Arial\, Verdana\, Helvetica\, sans-serif\; font-weight: bold\;">Gather &#9679\; Relate &#9679\; Organize &#9679\; Work&nbsp\;</span></div>\n\n<div style="color: rgb(68\, 68\, 68)\; font-family: Calibri\, Helvetica\, Arial\, sans-serif\; font-size: 14px\; white-space-collapse: preserve\; background-color: rgb(235\, 235\, 235)\; text-align: center\;">&nbsp\;</div>\n\n<div style="color: rgb(68\, 68\, 68)\; font-family: Calibri\, Helvetica\, Arial\, sans-serif\; font-size: 14px\; white-space-collapse: preserve\; background-color: rgb(235\, 235\, 235)\; text-align: center\;"><span style="font-family: Arial\, Verdana\, Helvetica\, sans-serif\; font-size: 16px\; color: rgb(80\, 94\, 107)\;">Join us each month to stay updated on business in Mills River.</span></div>\n\n<div style="color: rgb(68\, 68\, 68)\; font-family: Calibri\, Helvetica\, Arial\, sans-serif\; font-size: 14px\; white-space-collapse: preserve\; background-color: rgb(235\, 235\, 235)\; text-align: center\;"><span style="font-family: Arial\, Verdana\, Helvetica\, sans-serif\; font-size: 16px\; color: rgb(80\, 94\, 107)\;">With updates from the Town of Mills River and networking with neighboring businesses\, let&#39\;s work to GROW your business in Mills River.</span></div>\n\n<div style="color: rgb(68\, 68\, 68)\; font-family: Calibri\, Helvetica\, Arial\, sans-serif\; font-size: 14px\; white-space-collapse: preserve\; background-color: rgb(235\, 235\, 235)\; text-align: center\;">&nbsp\;</div>\n\n<div style="color: rgb(68\, 68\, 68)\; font-family: Calibri\, Helvetica\, Arial\, sans-serif\; font-size: 14px\; white-space-collapse: preserve\; background-color: rgb(235\, 235\, 235)\; text-align: center\;"><span style="font-family: Arial\, Verdana\, Helvetica\, sans-serif\; font-size: 16px\; color: rgb(80\, 94\, 107)\;">This month\, we will hear from Asheville Regional Airport&#39\;s Vice President of Marketing\, Public Relations and Air Service\, Tina Kinsey. </span></div>\n</div>\n\n<div style="white-space: pre-wrap\; text-align: center\;"><br />\n<br />\n<br />\n<br font-size:="" helvetica="" style="box-sizing: inherit\; color: rgb(34\, 34\, 34)\; font-family: " text-align:="" />\n<br font-size:="" helvetica="" style="box-sizing: inherit\; color: rgb(34\, 34\, 34)\; font-family: " text-align:="" />\n&nbsp\;</div>\n
LOCATION:Mills River Brewery | 336 Banner Farm Rd.\, Mills River
UID:e.2975.5850
SEQUENCE:3
DTSTAMP:20260419T201226Z
URL:https://business.hendersoncountychamber.org/events/details/grow-mills-river-breakfast-5850
END:VEVENT

END:VCALENDAR
