BEGIN:VCALENDAR
VERSION:2.0
PRODID:-//ChamberMaster//Event Calendar 2.0//EN
METHOD:PUBLISH
X-PUBLISHED-TTL:P3D
REFRESH-INTERVAL:P3D
CALSCALE:GREGORIAN
BEGIN:VEVENT
DTSTART:20221214T220000Z
DTEND:20221214T233000Z
X-MICROSOFT-CDO-ALLDAYEVENT:FALSE
SUMMARY:GROW Mills River & Young Professionals Mixer
DESCRIPTION:GROW Mills River offers a chance for those who work or live in Mills River to stay up to date on the business community. You have the chance to hear from the Town of Mills River each month as well as a presenter\, and network with other neighboring businesses. \n\n\n\nYoung Professionals of Henderson County offers a chance for those Young Professionals\, under 40\, to meet through a laid-back networking opportunity. This group typically meets on the 2nd Wednesday from 5:00 - 6:30. \n\n\n\nA big thanks to all of our sponsors for continuing to support these groups\, AdventHealth Hendersonville\, Spectrum Reach\, and the Town of Mills River!\n\n\n\nFood catered by Town of Mills River.\n\n\n\nLet's have some holiday fun together!
X-ALT-DESC;FMTTYPE=text/html:GROW Mills River offers a chance for those who work or live in Mills River to stay up to date on the business community. You have the chance to hear from the Town of Mills River each month as well as a presenter\, and network with other neighboring businesses.&nbsp\;<br />\n<br />\nYoung Professionals of Henderson County offers a chance for those Young Professionals\, under 40\, to meet through a laid-back networking opportunity. This group typically meets on the 2nd Wednesday from 5:00 - 6:30.&nbsp\;<br />\n<br />\nA big thanks to all of our sponsors for continuing to support these groups\, AdventHealth Hendersonville\, Spectrum Reach\, and the Town of Mills River!<br />\n<br />\nFood catered by Town of Mills River.<br />\n<br />\nLet&#39\;s have some holiday fun together!
LOCATION:Bold Rock Mills River Cidery | 72 School House Rd\, Mills River
UID:e.2975.4718
SEQUENCE:3
DTSTAMP:20260422T164239Z
URL:https://business.hendersoncountychamber.org/events/details/grow-mills-river-young-professionals-mixer-4718
END:VEVENT

END:VCALENDAR
