BEGIN:VCALENDAR
VERSION:2.0
PRODID:-//ChamberMaster//Event Calendar 2.0//EN
METHOD:PUBLISH
X-PUBLISHED-TTL:P3D
REFRESH-INTERVAL:P3D
CALSCALE:GREGORIAN
BEGIN:VEVENT
DTSTART:20221029T230000Z
DTEND:20221030T030000Z
X-MICROSOFT-CDO-ALLDAYEVENT:FALSE
SUMMARY:Halloween Party with Live Deejay
DESCRIPTION:We will be holding our first Annual Halloween Party this Saturday\, October 29th\, 2022 from 7pm to 11pm. This is a family party with children from 7pm until 9pm. After 9pm it's adults only. \n\n	Costumes are required\n	Children will be separated from adults but easily seen (chain link fence separating the lobby from the matts\n	BYOB\n	snacks\, mixers\, ice and drinking an eating utensils will be provided\n	No weapons\n	Bring or invite anyone you want however you and they must register online\n	Let's be civil with each other\n	You can leave your car overnight in case you have to uber home
X-ALT-DESC;FMTTYPE=text/html:We will be holding our first Annual Halloween Party this Saturday\, October 29th\, 2022 from 7pm to 11pm. This is a family party with children from 7pm until 9pm. After 9pm it&#39\;s adults only.&nbsp\;\n<ul>\n	<li>Costumes are required</li>\n	<li>Children will be separated from adults but easily seen (chain link fence separating the lobby from the matts</li>\n	<li>BYOB</li>\n	<li>snacks\, mixers\, ice and drinking an eating utensils will be provided</li>\n	<li>No weapons</li>\n	<li>Bring or invite anyone you want however you and they must register online</li>\n	<li>Let&#39\;s be civil with each other</li>\n	<li>You can leave your car overnight in case you have to uber home</li>\n</ul>\n
LOCATION:Hendokickboxing & Krav Maga 245 N King Street Hendersonville\, NC 28792
UID:e.2975.4652
SEQUENCE:3
DTSTAMP:20260422T220456Z
URL:https://business.hendersoncountychamber.org/events/details/halloween-party-with-live-deejay-4652
END:VEVENT

END:VCALENDAR
