BEGIN:VCALENDAR
VERSION:2.0
PRODID:-//ChamberMaster//Event Calendar 2.0//EN
METHOD:PUBLISH
X-PUBLISHED-TTL:P3D
REFRESH-INTERVAL:P3D
CALSCALE:GREGORIAN
BEGIN:VEVENT
DTSTART:20230623T233000Z
DTEND:20230624T010000Z
X-MICROSOFT-CDO-ALLDAYEVENT:FALSE
SUMMARY:Hello\, Daddy
DESCRIPTION:Fresh off her performance as the title role in Hedwig and the Angry Inch\, which Broadway World said was\, "Simply Outstanding\," and star turn in The Legend of Georgia McBride\, Delighted Tobehere is out to prove she is the ultimate Broadway baby. Delighted is celebrating two decades of drag\, and after 20 years of delighting audiences worldwide   and on America's Got Talent   she is ready for her big break on Broadway!\n\nIn Hello\, Daddy!\, Delighted is pulling out all the stops to prove she has what it takes and will even do WHATEVER it takes to get the role   any role. Even if that means showing you some of her special skills.  *wink wink* She won't quit until she is a star on Broadway! Hello\, Daddy! will feature songs from Hedwig and the Angry Inch\, Wicked\, La Cage Aux Folles\, and more! All of your favorite Broadway hits combined with Delighted's signature talent\, wit\, and charm\, makes this a show you will not want to miss! Get your tickets today! You'll be DELIGHTED you did!\n\nVisit the link to buy tickets: https://hendersonvilletheatre....
X-ALT-DESC;FMTTYPE=text/html:<p>Fresh off her performance as the title role in&nbsp\;<em>Hedwig and the Angry Inch</em>\, which Broadway World said was\, &ldquo\;Simply Outstanding\,&rdquo\; and star turn in&nbsp\;<em>The Legend of Georgia McBride\,</em>&nbsp\;Delighted Tobehere is out to prove she is the ultimate Broadway baby. Delighted is celebrating two decades of drag\, and after 20 years of&nbsp\;<em>delighting</em>&nbsp\;audiences worldwide &ndash\; and on&nbsp\;<em>America&rsquo\;s Got Talent &ndash\;&nbsp\;</em>she is ready for her big break on Broadway!</p>\n\n<p>In&nbsp\;<em>Hello\, Daddy!</em>\, Delighted is pulling out all the stops to prove she has what it takes and will even do WHATEVER it takes to get the role &ndash\; any role. Even if that means showing you some of her&nbsp\;<em>special skills</em>.&nbsp\; *wink wink* She won&rsquo\;t quit until she is a star&hellip\;on Broadway!&nbsp\;<em>Hello\, Daddy!</em>&nbsp\;will feature songs from&nbsp\;<em>Hedwig and the Angry Inch\, Wicked\, La Cage Aux Folles\,</em>&nbsp\;and more! All of your favorite Broadway hits combined with Delighted&rsquo\;s signature talent\, wit\, and charm\, makes this a show you will not want to miss! Get your tickets today! You&rsquo\;ll be DELIGHTED you did!</p>\n\n<p>Visit the link to buy tickets:&nbsp\;<a href="https://hendersonvilletheatre.org/hello-daddy-june-23/" rel="nofollow noopener noreferrer" style="box-sizing: border-box\; --tw-border-spacing-x: 0\; --tw-border-spacing-y: 0\; --tw-translate-x: 0\; --tw-translate-y: 0\; --tw-rotate: 0\; --tw-skew-x: 0\; --tw-skew-y: 0\; --tw-scale-x: 1\; --tw-scale-y: 1\; --tw-pan-x: \; --tw-pan-y: \; --tw-pinch-zoom: \; --tw-scroll-snap-strictness: proximity\; --tw-ordinal: \; --tw-slashed-zero: \; --tw-numeric-figure: \; --tw-numeric-spacing: \; --tw-numeric-fraction: \; --tw-ring-inset: \; --tw-ring-offset-width: 0px\; --tw-ring-offset-color: #fff\; --tw-ring-color: rgb(11 149 213 / 0.5)\; --tw-ring-offset-shadow: 0 0 #0000\; --tw-ring-shadow: 0 0 #0000\; --tw-shadow: 0 0 #0000\; --tw-shadow-colored: 0 0 #0000\; --tw-blur: \; --tw-brightness: \; --tw-contrast: \; --tw-grayscale: \; --tw-hue-rotate: \; --tw-invert: \; --tw-saturate: \; --tw-sepia: \; --tw-drop-shadow: \; --tw-backdrop-blur: \; --tw-backdrop-brightness: \; --tw-backdrop-contrast: \; --tw-backdrop-grayscale: \; --tw-backdrop-hue-rotate: \; --tw-backdrop-invert: \; --tw-backdrop-opacity: \; --tw-backdrop-saturate: \; --tw-backdrop-sepia: \; color: rgb(6\, 99\, 142)\; text-decoration-line: none\; outline: none !important\;" target="_blank">https://hendersonvilletheatre....</a></p>\n
LOCATION:Hendersonville Theatre 229 S. Washington St. Hendersonville\, NC 29739
UID:e.2975.5769
SEQUENCE:3
DTSTAMP:20260419T220806Z
URL:https://business.hendersoncountychamber.org/events/details/hello-daddy-5769
END:VEVENT

END:VCALENDAR
