BEGIN:VCALENDAR
VERSION:2.0
PRODID:-//ChamberMaster//Event Calendar 2.0//EN
METHOD:PUBLISH
X-PUBLISHED-TTL:P3D
REFRESH-INTERVAL:P3D
CALSCALE:GREGORIAN
BEGIN:VEVENT
DTSTART:20230617T110000Z
DTEND:20230617T140000Z
X-MICROSOFT-CDO-ALLDAYEVENT:FALSE
SUMMARY:Hendersonville Triathlon
DESCRIPTION:The 4th annual Hendersonville Triathlon presented by Hunter Subaru will take place at Patton Park in Hendersonville\, NC! Patton Pool is operated by the YMCA of WNC in Hendersonville and Patton Park is operated by the City of Hendersonville. The event consists of 400m pool swim\, 12.5 mile bike and 5k run! The run will take place on the beautiful\, flat and scenic Oklawaha Greenway. The bike course will be on rolling\, rural roads in Henderson County and City limits.
X-ALT-DESC;FMTTYPE=text/html:<span style="font-size:20px"><span style="background-color:rgb(255\, 255\, 255)\; font-family:open sans\,noto sans jp\,sans-serif">The 4th annual Hendersonville Triathlon presented by Hunter Subaru will take place at Patton Park in Hendersonville\, NC! Patton Pool is operated by the YMCA of WNC in Hendersonville and Patton Park is operated by the City of Hendersonville. The event consists of 400m pool swim\, 12.5 mile bike and 5k run! </span><span style="background-color:rgb(255\, 255\, 255)\; font-family:open sans\,helvetica\,arial\,lucida\,sans-serif">The run will take place on the beautiful\, flat and scenic Oklawaha Greenway. The bike course will be on rolling\, rural roads in Henderson County and City limits.&nbsp\;</span></span>
LOCATION:Patton Pool\, 114 E Clairmont Drive\, Hendersonville\, NC 28792
UID:e.2975.4544
SEQUENCE:3
DTSTAMP:20260419T221550Z
URL:https://business.hendersoncountychamber.org/events/details/hendersonville-triathlon-06-18-2023-4544
END:VEVENT

END:VCALENDAR
