BEGIN:VCALENDAR
VERSION:2.0
PRODID:-//ChamberMaster//Event Calendar 2.0//EN
METHOD:PUBLISH
X-PUBLISHED-TTL:P3D
REFRESH-INTERVAL:P3D
CALSCALE:GREGORIAN
BEGIN:VEVENT
DTSTART:20221212T003000Z
DTEND:20221212T023000Z
X-MICROSOFT-CDO-ALLDAYEVENT:FALSE
SUMMARY:Holiday Double Cheer: FIVE CAROLS FOR CHRISTMAS & JINGLEJACKS
DESCRIPTION:Hendersonville Theatre invites you to join them this December to celebrate the holidays in a new and unique way. In Holiday Double Cheer: Five Carols for Christmas and JingleJacks\, two unique musical one-acts will make their North Carolina premiere at Hendersonville Theatre from December 2 to 18. Tickets are $21-30 and are available online at HVLtheatre.org or by calling the Box Office at (828) 692-1082. Groups of 10 or more receive a 10 percent discount.\n\n \n\nDouble Holiday Cheer opens with Five Carols for Christmas. Set in 1954 suburbia and inspired by classic holiday Christmas specials\, Five Carols is the story of five best friends (all named Carol) who set out to present a memorable Christmas program at the local high school. Unfortunately\, egos\, miscommunication\, and a power outage turn their quest for perfection into a madcap misadventure that somehow manages to salvage their camaraderie and the spirit of the holidays. \n\n\n\nThe second half of Double Holiday Cheer presents JingleJacks\, a new\, modern\, Christmas musical. Four Canadian lumberjacks\, isolated in a cabin somewhere in the wilderness\, are living out their dreams of becoming internet sensations with their Christmas webcast. Using webcams and laptops\, they serenade their "cyber" audience with a broad spectrum of musical genres: barbershop\, classical\, hip-hop\, smooth jazz\, rap\, glee club\, rock\, and many more. And just like every pop star wannabe\, they hold contests\, sell merchandise\, and send shout outs to their loyal fans\, "The Jackals." Through it all\, their warmth\, charm\, and quirkiness provide a big ol' holiday bear hug loaded with traditional song favorites and fresh new melodies.\n\n\n\nDouble Holiday Cheer is sponsored by Harvey's Al Fresco at The Henderson and is also supported by the Community Foundation of Henderson County\, the City of Hendersonville\, and the North Carolina Arts Council\, a division of the Department of Natural and Cultural Resources.
X-ALT-DESC;FMTTYPE=text/html:<span style="font-size:14px"><span style="font-family:arial\,helvetica\,sans-serif"><span style="background-color:transparent\; color:rgb(0\, 0\, 0)">Hendersonville Theatre invites you to join them this December to celebrate the holidays in a new and unique way. In </span><em>Holiday Double Cheer: Five Carols for Christmas and JingleJacks\, </em><span style="background-color:transparent\; color:rgb(0\, 0\, 0)">two unique musical one-acts will make their North Carolina premiere at Hendersonville Theatre from December 2 to 18. Tickets are $21-30 and are available online at HVLtheatre.org or by calling the Box Office at (828) 692-1082. Groups of 10 or more receive a 10 percent discount.</span><br />\n<span style="background-color:transparent\; color:rgb(0\, 0\, 0)">&nbsp\;</span><br />\n<em>Double Holiday Cheer </em><span style="background-color:transparent\; color:rgb(0\, 0\, 0)">opens with </span><em>Five Carols for Christmas</em><span style="background-color:transparent\; color:rgb(0\, 0\, 0)">. Set in 1954 suburbia and inspired by classic holiday Christmas specials\, </span><em>Five Carols</em><span style="background-color:transparent\; color:rgb(0\, 0\, 0)"> is the story of five best friends (all named Carol) who set out to present a memorable Christmas program at the local high school. Unfortunately\, egos\, miscommunication\, and a power outage turn their quest for perfection into a madcap misadventure that somehow manages to salvage their camaraderie and the spirit of the holidays.&nbsp\;</span><br />\n<br />\n<span style="background-color:transparent\; color:rgb(0\, 0\, 0)">The second half of </span><em>Double Holiday Cheer</em><span style="background-color:transparent\; color:rgb(0\, 0\, 0)"> presents </span><em>JingleJacks</em><span style="background-color:transparent\; color:rgb(0\, 0\, 0)">\, a new\, modern\, Christmas musical. Four Canadian lumberjacks\, isolated in a cabin somewhere in the wilderness\, are living out their dreams of becoming internet sensations with their Christmas webcast. Using webcams and laptops\, they serenade their &ldquo\;cyber&rdquo\; audience with a broad spectrum of musical genres: barbershop\, classical\, hip-hop\, smooth jazz\, rap\, glee club\, rock\, and many more. And just like every pop star wannabe\, they hold contests\, sell merchandise\, and send shout outs to their loyal fans\, &ldquo\;The Jackals.&rdquo\; Through it all\, their warmth\, charm\, and quirkiness provide a big ol&rsquo\; holiday bear hug loaded with traditional song favorites and fresh new melodies.</span></span></span><br />\n<br />\n<em>Double Holiday Cheer</em><span style="background-color:transparent\; font-family:arial\,helvetica\,sans-serif\; font-size:14px">&nbsp\;</span><span style="background-color:transparent\; color:rgb(0\, 0\, 0)\; font-family:arial\,helvetica\,sans-serif\; font-size:14px">is sponsored by Harvey&rsquo\;s Al Fresco at The Henderson and is also supported by the Community Foundation of Henderson County\, the City of Hendersonville\, and the North Carolina Arts Council\, a division of the Department of Natural and Cultural Resources.&nbsp\;</span><br />\n&nbsp\;
LOCATION:Hendersonville Theatre 229 S. Washington Street Hendersonville\, NC 28739
UID:e.2975.4712
SEQUENCE:3
DTSTAMP:20260422T164441Z
URL:https://business.hendersoncountychamber.org/events/details/holiday-double-cheer-five-carols-for-christmas-jinglejacks-12-11-2022-4712
END:VEVENT

END:VCALENDAR
