BEGIN:VCALENDAR
VERSION:2.0
PRODID:-//ChamberMaster//Event Calendar 2.0//EN
METHOD:PUBLISH
X-PUBLISHED-TTL:P3D
REFRESH-INTERVAL:P3D
CALSCALE:GREGORIAN
BEGIN:VEVENT
DTSTART:20221001T140000Z
DTEND:20221001T210000Z
X-MICROSOFT-CDO-ALLDAYEVENT:FALSE
SUMMARY:Hope on the Farm Day
DESCRIPTION:A family-friendly day of carnival games\, live music\, and delicious food in a Fall setting. There will be hay rides\, ice cream\, and tons of fun at Jeter Mountain Farm on October 1st.
X-ALT-DESC;FMTTYPE=text/html:<p>A family-friendly day of carnival games\, live music\, and delicious food in a Fall setting. There will be hay rides\, ice cream\, and tons of fun at Jeter Mountain Farm on October 1st.&nbsp\;</p>\n
LOCATION:1126 Jeter Mountain Road Hendersonville\, NC 28739
UID:e.2975.4568
SEQUENCE:3
DTSTAMP:20260422T202617Z
URL:https://business.hendersoncountychamber.org/events/details/hope-on-the-farm-day-4568
END:VEVENT

END:VCALENDAR
