BEGIN:VCALENDAR
VERSION:2.0
PRODID:-//ChamberMaster//Event Calendar 2.0//EN
METHOD:PUBLISH
X-PUBLISHED-TTL:P3D
REFRESH-INTERVAL:P3D
CALSCALE:GREGORIAN
BEGIN:VEVENT
DTSTART:20230727T210000Z
DTEND:20230728T000000Z
X-MICROSOFT-CDO-ALLDAYEVENT:FALSE
SUMMARY:Hopeful Connections: Connecting National Expertise to a Local Level
DESCRIPTION:Join us for a day of community engagement and education! This event is designed to bring together members of the Henderson County community to learn about local resources and services surrounding the substance misuse epidemic. Our goal is to promote awareness and understanding of the programs available to residents.\n\nThe event will take place on Thursday\, July 27th\, 2023 at 5:00 PM Eastern Daylight Time at 180 West Campus Drive\, Flat Rock\, NC 28731. We encourage everyone to attend and bring their friends and family.\n\nThroughout the day\, there will be a variety of activities\, including informational booths\, demonstrations\, and a special keynote speaker\, Nic Sheff.\n\nNic Sheff's heartbreaking and inspiring struggle with substance abuse disorder is the story of Beautiful Boy\, a major motion picture starring Timoth e Chalamet as Nic and Steve Carell as his father\, David. The film\, which earned Golden Globe and SAG nominations for Chalamet\, is based on Nic's New York Times bestselling memoir\, Tweak: Growing Up on Methamphetamines and David's bestseller of the same title. Sharing an unglamorized\, authentic and heart-touching story of substance abuse and recovery that is deeply rooted in mental illness\, Nic has been recognized as "a life-changing speaker." His deeply engaging talks put a compelling human face on our nation's substance abuse epidemic\, encouraging those who struggle to embrace help and bringing hope to all who are touched by it.\n\nDon't miss this chance to hear Nic Sheff speak about the journey from addiction to clean living and learn about the resources available in your community and connect with your neighbors. We hope to see you there!
X-ALT-DESC;FMTTYPE=text/html:<p>Join us for a day of community engagement and education! This event is designed to bring together members of the Henderson County community to learn about local resources and services surrounding the substance misuse epidemic. Our goal is to promote awareness and understanding of the programs available to residents.</p>\n\n<p>The event will take place on&nbsp\;<strong>Thursday\, July 27th\, 2023 at 5:00 PM Eastern Daylight Time</strong>&nbsp\;at 180 West Campus Drive\, Flat Rock\, NC 28731. We encourage everyone to attend and bring their friends and family.</p>\n\n<p>Throughout the day\, there will be a variety of activities\, including informational booths\, demonstrations\, and a special keynote speaker\, Nic Sheff.</p>\n\n<p>Nic Sheff&rsquo\;s heartbreaking and inspiring struggle with substance abuse disorder is the story of Beautiful Boy\, a major motion picture starring Timoth&eacute\;e Chalamet as Nic and Steve Carell as his father\, David. The film\, which earned Golden Globe and SAG nominations for Chalamet\, is based on Nic&rsquo\;s New York Times bestselling memoir\, Tweak: Growing Up on Methamphetamines and David&rsquo\;s bestseller of the same title. Sharing an unglamorized\, authentic and heart-touching story of substance abuse and recovery that is deeply rooted in mental illness\, Nic has been recognized as &ldquo\;a life-changing speaker.&rdquo\; His deeply engaging talks put a compelling human face on our nation&rsquo\;s substance abuse epidemic\, encouraging those who struggle to embrace help and bringing hope to all who are touched by it.</p>\n\n<p>Don&#39\;t miss this chance to hear Nic Sheff speak about the journey from addiction to clean living and learn about the resources available in your community and connect with your neighbors. We hope to see you there!</p>\n
LOCATION:Bo Thomas auditorium 180 West Campus Drive Flat Rock\, NC 28731
UID:e.2975.5778
SEQUENCE:3
DTSTAMP:20260419T221709Z
URL:https://business.hendersoncountychamber.org/events/details/hopeful-connections-connecting-national-expertise-to-a-local-level-5778
END:VEVENT

END:VCALENDAR
