BEGIN:VCALENDAR
VERSION:2.0
PRODID:-//ChamberMaster//Event Calendar 2.0//EN
METHOD:PUBLISH
X-PUBLISHED-TTL:P3D
REFRESH-INTERVAL:P3D
CALSCALE:GREGORIAN
BEGIN:VEVENT
DTSTART:20230405T223000Z
DTEND:20230406T003000Z
X-MICROSOFT-CDO-ALLDAYEVENT:FALSE
SUMMARY:Improv Level One: Communicate. Collaborate. Play.
DESCRIPTION:Class cost: $180 Min students: 7 Max students: 14\n\nClass Dates: Wednesdays\, April 5-May 24 (8 weeks)\n\nTime: 6:30 to 8:30\n\nLocation: Whitmire Activity Center\, ??310 Lily Pond Dr\, Hendersonville\, NC 28739\n\nThe last class will include a showcase of student's work which will be open to the publicMust be 18+ to attend\n\nThe last day to receive a full refund is March 5\, 2023. After March 5\, 2023\, no refund will be issued.\n\nMore than 2 missed classes will result in automatic withdrawal\, with no credit issued.\n\n\n\nClass Description:\n\nEmily's teaching motto is "growth only happens when you are willing to step outside your comfort zone." In this class\, we are working at getting comfortable onstage and stepping into bravery while having fun doing it. We will be learning to have compassion for ourselves and our classmates as performers as we learn the fundamentals of improvisation and develop support and spontaneity. Together\, we will learn the importance of "yes and-ing\," heightening the absurdity\, and raising the stakes. We will also cover the differences between short form and long form improv. This is a short form class. (Think: "Whose Line Is It Anyway?")\n\n\n\nAbout the Teacher\n\nEmily Swindal lived in New York City for 8 years as an actor and improv comedian and relocated to Hendersonville during the pandemic. Emily has studied and performed improv and sketch comedy writing at NYC's Magnet Theater and Upright Citizens Brigade Theatre NY. Emily has performed with an assortment of improv teams. Some of her past instructors include Elana Fishbein\, Peter McNerney\, Ross Taylor\, Michael Lutton\, and Nicole Drespel. She has a BFA in Musical Theatre from Shenandoah Conservatory. Emily can't wait to meet you.
X-ALT-DESC;FMTTYPE=text/html:<div>Class cost: $180 Min students: 7 Max students: 14</div>\n\n<div>Class Dates: Wednesdays\, April 5-May 24 (8 weeks)<br />\nTime: 6:30 to 8:30</div>\n\n<div>Location: Whitmire Activity Center\, ??310 Lily Pond Dr\, Hendersonville\, NC 28739</div>\n\n<div>The last class will include a showcase of student&rsquo\;s work which will be open to the publicMust be 18+ to attend</div>\n\n<div>The last day to receive a full refund is March 5\, 2023. After March 5\, 2023\, no refund will be issued.</div>\n\n<div>More than 2 missed classes will result in automatic withdrawal\, with no credit issued.</div>\n\n<div><br />\nClass Description:<br />\nEmily&#39\;s teaching motto is &quot\;growth only happens when you are willing to step outside your comfort zone.&quot\; In this class\, we are working at getting comfortable onstage and stepping into bravery while having fun doing it. We will be learning to have compassion for ourselves and our classmates as performers as we learn the fundamentals of improvisation and develop support and spontaneity. Together\, we will learn the importance of &ldquo\;yes and-ing\,&rdquo\; heightening the absurdity\, and raising the stakes. We will also cover the differences between short form and long form improv. This is a short form class. (Think: &ldquo\;Whose Line Is It Anyway?&rdquo\;)</div>\n\n<div><br />\nAbout the Teacher<br />\nEmily Swindal lived in New York City for 8 years as an actor and improv comedian and relocated to Hendersonville during the pandemic. Emily has studied and performed improv and sketch comedy writing at NYC&rsquo\;s Magnet Theater and Upright Citizens Brigade Theatre NY. Emily has performed with an assortment of improv teams. Some of her past instructors include Elana Fishbein\, Peter McNerney\, Ross Taylor\, Michael Lutton\, and Nicole Drespel. She has a BFA in Musical Theatre from Shenandoah Conservatory. Emily can&rsquo\;t wait to meet you.</div>\n
LOCATION:Whitmire Activity Center 310 Lily Pond Dr Hendersonville\, NC 28739
UID:e.2975.5356
SEQUENCE:3
DTSTAMP:20260422T110055Z
URL:https://business.hendersoncountychamber.org/events/details/improv-level-one-communicate-collaborate-play-04-05-2023-5356
END:VEVENT

END:VCALENDAR
