BEGIN:VCALENDAR
VERSION:2.0
PRODID:-//ChamberMaster//Event Calendar 2.0//EN
METHOD:PUBLISH
X-PUBLISHED-TTL:P3D
REFRESH-INTERVAL:P3D
CALSCALE:GREGORIAN
BEGIN:VEVENT
DTSTART:20230708T130000Z
DTEND:20230708T170000Z
X-MICROSOFT-CDO-ALLDAYEVENT:FALSE
SUMMARY:Israeli Combat Weapons Workshop
DESCRIPTION:Learn the same combat tested methods that have been used for more than 30 years by the Israeli Defense Forces\, Elite Special Forces\, MOSSAD\, Israeli Counter-Terrorism and other military/police units. Israeli Combat Shooting is designed for close-quarters combat. It is an instinctive point shooting method that teaches the shooter to "draw\, charge and shoot" from  an empty chamber  in a matter of a second while combining safety\, stability and mobility. We pride ourselves in giving our customers high quality services\, personalized for their unique needs.??\n\n \n\nKey advantages for learning ??Israeli Combat Weapons Training\n\n  Simple and easy to learn. \n\n  Involves Military and operational strategic thinking \n\n  Enhances body mechanics and muscle memorization \n\n  Prepares the practitioner to deal with unexpected situations \n\n  Fast and useful CQB system \n\n  Elevates fighting spirit  \n\n  Elevates self confidence \n\n  Incorporates Innovative and unique training methods \n\n  Applicable to all regardless of their size\, strength\, or gender  \n\n  Tested under the most demanding conditions by Special Forces operators\n\n- Learn how to use improvised weapons including knife and stick
X-ALT-DESC;FMTTYPE=text/html:<p><span style="color:rgb(0\, 0\, 0)"><span style="font-family:museo-w01-700\,museo-w05-700\,serif">Learn the same combat tested methods that have been used for more than 30 years by the Israeli Defense Forces\, Elite Special Forces\, MOSSAD\, Israeli Counter-Terrorism and other military/police units. Israeli Combat Shooting is designed for close-quarters combat. It is an instinctive point shooting method that teaches the shooter to &quot\;draw\, charge and shoot&quot\; from&nbsp\; an empty chamber&nbsp\; in a matter of a second while combining safety\, stability and mobility. We pride ourselves in giving our customers high quality services\, personalized for their unique needs.??</span></span><br />\n&nbsp\;</p>\n\n<p><span style="font-size:20px"><span style="color:rgb(235\, 160\, 75)"><span style="font-family:museo-w01-700\,museo-w05-700\,serif">Key advantages for learning ??Israeli Combat Weapons Training</span></span></span></p>\n\n<p><span style="color:rgb(0\, 0\, 0)"><span style="font-family:museo-w01-700\,museo-w05-700\,serif">&middot\; Simple and easy to learn.&nbsp\;<br />\n&middot\; Involves Military and operational strategic thinking&nbsp\;<br />\n&middot\; Enhances body mechanics and muscle memorization&nbsp\;<br />\n&middot\; Prepares the practitioner to deal with unexpected situations&nbsp\;<br />\n&middot\; Fast and useful CQB system&nbsp\;<br />\n&middot\; Elevates fighting spirit &nbsp\;<br />\n&middot\; Elevates self confidence&nbsp\;<br />\n&middot\; Incorporates Innovative and unique training methods&nbsp\;<br />\n&middot\; Applicable to all regardless of their size\, strength\, or gender &nbsp\;<br />\n&middot\; Tested under the most demanding conditions by Special Forces operators</span></span><br />\n<span style="color:rgb(0\, 0\, 0)\; font-family:museo-w01-700\,museo-w05-700\,serif">- Learn how to use improvised weapons including knife and stick</span></p>\n
LOCATION:Mill Spring private range. Our school is located at: 245 N King St Hendersonville\, NC 28792
UID:e.2975.5831
SEQUENCE:3
DTSTAMP:20260419T201153Z
URL:https://business.hendersoncountychamber.org/events/details/israeli-combat-weapons-workshop-5831
END:VEVENT

END:VCALENDAR
