BEGIN:VCALENDAR
VERSION:2.0
PRODID:-//ChamberMaster//Event Calendar 2.0//EN
METHOD:PUBLISH
X-PUBLISHED-TTL:P3D
REFRESH-INTERVAL:P3D
CALSCALE:GREGORIAN
BEGIN:VEVENT
DTSTART:20230526T220000Z
DTEND:20230526T233000Z
X-MICROSOFT-CDO-ALLDAYEVENT:FALSE
SUMMARY:Israeli Knife Fighting Seminar part 2
DESCRIPTION:Israeli Combat Knife (Level 2)\n\nICK Level 2 is the second course in series of three courses that are designed to introduce a student to the fundamentals of Israeli Combat Knife sparring. Participants will wear helmet and gloves for protection. A white t-shirt is required for the marking knives to show where actual cuts and stabs would land. Israeli Combat Knife Level 1 must be completed before hand.\n\n \n\nCourse outline:\n\n- Fundamentals of knife sparring\n\n- ICK knife and tomahawk stance\n\n- ICK body mechanics\n\n- Saber and Icepick grip for sparring\n\n- 8 cut rule\n\n- ICK Counter attacking \n\n- Multiple attacker remediation
X-ALT-DESC;FMTTYPE=text/html:<p><span style="color:rgb(235\, 160\, 75)"><span style="font-family:museo-w01-700\,museo-w05-700\,serif">Israeli Combat Knife (Level 2)</span></span></p>\n\n<p><span style="color:rgb(0\, 0\, 0)"><span style="font-family:museo-w01-700\,museo-w05-700\,serif">ICK Level 2 is the second course in series of three courses that are designed to introduce a student to the fundamentals of Israeli Combat Knife sparring. Participants will wear h</span></span><span style="color:rgb(0\, 0\, 0)"><span style="font-family:museo-w01-700\,museo-w05-700\,serif">elmet and gloves for protection. A white t-shirt is required for the marking knives to show where actual cuts and stabs would land. Israeli Combat Knife Level 1 must be completed before hand.</span></span><br />\n&nbsp\;</p>\n\n<p><span style="color:rgb(0\, 0\, 0)"><span style="font-family:museo-w01-700\,museo-w05-700\,serif">Course outline:<br />\n- Fundamentals of knife sparring<br />\n- ICK knife and tomahawk stance<br />\n- ICK body mechanics<br />\n- Saber and Icepick grip for sparring<br />\n- 8 cut rule</span></span><br />\n<span style="color:rgb(0\, 0\, 0)"><span style="font-family:museo-w01-700\,museo-w05-700\,serif">- ICK Counter attacking&nbsp\;</span></span></p>\n\n<p><span style="color:rgb(0\, 0\, 0)"><span style="font-family:museo-w01-700\,museo-w05-700\,serif">- Multiple attacker remediation</span></span></p>\n
LOCATION:Hendokickboxing & Krav Maga 245 N King Street Hendersonville\, NC 28792
UID:e.2975.5764
SEQUENCE:3
DTSTAMP:20260422T090932Z
URL:https://business.hendersoncountychamber.org/events/details/israeli-knife-fighting-seminar-part-2-5764
END:VEVENT

END:VCALENDAR
