BEGIN:VCALENDAR
VERSION:2.0
PRODID:-//ChamberMaster//Event Calendar 2.0//EN
METHOD:PUBLISH
X-PUBLISHED-TTL:P3D
REFRESH-INTERVAL:P3D
CALSCALE:GREGORIAN
BEGIN:VEVENT
DTSTART:20230825T200000Z
DTEND:20230825T220000Z
X-MICROSOFT-CDO-ALLDAYEVENT:FALSE
SUMMARY:Join Pardee Home Health for a Meet & Greet
DESCRIPTION:You're invited to an open house event to get to know Pardee's Home Health team and services\, which support Buncombe\, Henderson\, Polk\, Rutherford\, and Transylvania counties. Meet the team as you visit our new business office and enjoy snacks\, drinks\, and live music. Mammo on the Go\, Pardee's new mobile mammography bus\, will also be on-site for tours.\n\n \n\nFriday\, August 25\n\n4:00 - 6:00 p.m.\n\nPardee Home Health\n\n114 College Drive\, Flat Rock\, NC 28731\n\n \n\nTo RSVP or learn more\, contact Laura Willis at 828-450-4213 or laura.willis3@unchealth.unc.edu
X-ALT-DESC;FMTTYPE=text/html:<div>You&rsquo\;re invited to an open house event to get to know Pardee&rsquo\;s Home Health team and services\, which support Buncombe\, Henderson\, Polk\, Rutherford\, and Transylvania counties. Meet the team as you visit our new business office and enjoy snacks\, drinks\, and live music. Mammo on the Go\, Pardee&rsquo\;s new mobile mammography bus\, will also be on-site for tours.</div>\n\n<div>&nbsp\;</div>\n\n<div><strong>Friday\, August 25</strong></div>\n\n<div><strong>4:00 - 6:00 p.m.</strong></div>\n\n<div><strong>Pardee Home Health</strong></div>\n\n<div><strong>114 College Drive\, Flat Rock\, NC 28731</strong></div>\n\n<div>&nbsp\;</div>\n\n<div>To RSVP or learn more\, contact Laura Willis at 828-450-4213 or <a class="PrimaryLink BaseLink" href="mailto:laura.willis3@unchealth.unc.edu" rel="noreferrer noopener" style="color: var(--color-primary-text)\; cursor: pointer\; text-decoration-line: none\; text-decoration-style: solid\; background-color: rgba(0\, 0\, 0\, 0)\; fill: var(--color-primary-text)\;" target="_blank">laura.willis3@unchealth.unc.edu</a></div>\n
LOCATION:Pardee Home Health 114 College Drive\, Flat Rock\, NC 28731
UID:e.2975.5999
SEQUENCE:3
DTSTAMP:20260419T201558Z
URL:https://business.hendersoncountychamber.org/events/details/join-pardee-home-health-for-a-meet-greet-5999
END:VEVENT

END:VCALENDAR
