BEGIN:VCALENDAR
VERSION:2.0
PRODID:-//ChamberMaster//Event Calendar 2.0//EN
METHOD:PUBLISH
X-PUBLISHED-TTL:P3D
REFRESH-INTERVAL:P3D
CALSCALE:GREGORIAN
BEGIN:VEVENT
DTSTART:20230714T220000Z
DTEND:20230715T000000Z
X-MICROSOFT-CDO-ALLDAYEVENT:FALSE
SUMMARY:Judo for Self Defense Workshop
DESCRIPTION:Judo can be a highly effective martial art in certain situations. This unique combat sport relies heavily on throws and joint locks. Judo training can be beneficial\, if combined with other martial arts such as Krav Maga\, Muay Thai and BJJ.  Several Judo moves can help you defend yourself in dangerous situations\, including throws\, joint locks\, etc. This workshop will teach you the best self defense techniques Judo has to offer in a 2 hour workshop.\n\n\nHere is an excellent list of Judo self-defense techniques:\n\n\n\n\n	Shoulder throws such as Seoi-Nage and Ippon-Seoi-Nage are the first Judo moves for self-defense. These moves are practical in throwing your opponents over their shoulders and subduing them quickly. \n	Hip throws are another effective self-defense move you can learn when practicing Judo martial art. \n	Joint locks are another excellent judo techniques that can be practical for self-defense. These techniques are beneficial for controlling or submitting an opponent\, regardless of size.\n\n?Learn from Judo Expert Rusty Haun who holds a 3 degree black belt in Brazilian Jiu Jitsu and a 2nd degree black blet in Judo. This 2 hour workshop will cover the most effective throws and finishes in the judo library of techniques.
X-ALT-DESC;FMTTYPE=text/html:<div style="background:transparent\; border:0px\; padding:0px"><span style="font-size:12px"><span style="font-family:arial\,helvetica\,sans-serif">Judo can be a highly effective martial art in certain situations. This unique combat sport relies heavily on throws and joint locks. Judo training can be beneficial\, if combined with other martial arts such as Krav Maga\, Muay Thai and BJJ. &nbsp\;Several Judo moves can help you defend yourself in dangerous situations\, including throws\, joint locks\, etc. This workshop will teach you the best self defense techniques Judo has to offer in a 2 hour workshop.</span></span></div>\n\n<div style="background:transparent\; border:0px\; padding:0px">\n<div style="background:transparent\; border:0px\; padding:0px"><span style="font-size:12px"><span style="font-family:arial\,helvetica\,sans-serif"><span style="background-color:transparent">Here is an excellent list of Judo self-defense techniques:</span></span></span></div>\n</div>\n\n<div style="background:transparent\; border:0px\; padding:0px">\n<ol>\n	<li><span style="font-size:12px"><span style="font-family:arial\,helvetica\,sans-serif">Shoulder throws such as Seoi-Nage and Ippon-Seoi-Nage are the first Judo moves for self-defense. These moves are practical in throwing your opponents over their shoulders and subduing them quickly.&nbsp\;</span></span></li>\n	<li><span style="font-size:12px"><span style="font-family:arial\,helvetica\,sans-serif">Hip throws are another effective self-defense move you can learn when practicing Judo martial art.&nbsp\;</span></span></li>\n	<li><span style="font-size:12px"><span style="font-family:arial\,helvetica\,sans-serif">Joint locks are another excellent judo techniques that can be practical for self-defense. These techniques are beneficial for controlling or submitting an opponent\, regardless of size.</span></span></li>\n</ol>\n<span style="font-size:12px"><span style="font-family:arial\,helvetica\,sans-serif">?<span style="background-color:transparent\; text-align:right">Learn from Judo Expert Rusty Haun who holds a 3 degree black belt in Brazilian Jiu Jitsu and a 2nd degree black blet in Judo. This 2 hour workshop will cover the most effective throws and finishes in the judo library of techniques.</span></span></span></div>\n
LOCATION:Hendokickboxing & Krav Maga 245 N King St Hendersonville\, NC 28792
UID:e.2975.5765
SEQUENCE:3
DTSTAMP:20260419T201152Z
URL:https://business.hendersoncountychamber.org/events/details/judo-for-self-defense-workshop-5765
END:VEVENT

END:VCALENDAR
