BEGIN:VCALENDAR
VERSION:2.0
PRODID:-//ChamberMaster//Event Calendar 2.0//EN
METHOD:PUBLISH
X-PUBLISHED-TTL:P3D
REFRESH-INTERVAL:P3D
CALSCALE:GREGORIAN
BEGIN:VEVENT
DTSTART:20230714T220000Z
DTEND:20230714T233000Z
X-MICROSOFT-CDO-ALLDAYEVENT:FALSE
SUMMARY:Judo Self Defense Workshop
DESCRIPTION:Judo can be a highly effective martial art in certain situations. This unique combat sport relies heavily on throws and joint locks. Judo training can be beneficial\, if combined with other martial arts such as Krav Maga\, Muay Thai and BJJ.  Several Judo moves can help you defend yourself in dangerous situations\, including throws\, joint locks\, etc. This workshop will teach you the best self defense techniques Judo has to offer in a 2 hour workshop.
X-ALT-DESC;FMTTYPE=text/html:<span style="color:rgb(0\, 0\, 0)\; font-family:museo-w01-700\,museo-w05-700\,serif\; font-size:15px">Judo can be a highly effective martial art in certain situations. This unique combat sport relies heavily on throws and joint locks. Judo training can be beneficial\, if combined with other martial arts such as Krav Maga\, Muay Thai and BJJ. &nbsp\;Several Judo moves can help you defend yourself in dangerous situations\, including throws\, joint locks\, etc. This workshop will teach you the best self defense techniques Judo has to offer in a 2 hour workshop.</span>
LOCATION:Hendokickboxing & Krav Maga 245 N King Street Hendersonville\, NC 28792
UID:e.2975.5832
SEQUENCE:3
DTSTAMP:20260419T201154Z
URL:https://business.hendersoncountychamber.org/events/details/judo-self-defense-workshop-5832
END:VEVENT

END:VCALENDAR
