BEGIN:VCALENDAR
VERSION:2.0
PRODID:-//ChamberMaster//Event Calendar 2.0//EN
METHOD:PUBLISH
X-PUBLISHED-TTL:P3D
REFRESH-INTERVAL:P3D
CALSCALE:GREGORIAN
BEGIN:VEVENT
DTSTART:20230310T150000Z
DTEND:20230310T170000Z
X-MICROSOFT-CDO-ALLDAYEVENT:FALSE
SUMMARY:Kick Off Business Success in 2023 with a Plan
DESCRIPTION:The author of the Success Planning Template will assist you in creating your success plan. This new "custom" business success planning template\, based on industry best practices\, makes it easier and faster to create a success plan for 2023.\n\n \n\nHave a question about using the Success Planning Template or want to learn more about it\, the seminar helps local businesses face new challenges and have focuses in 2023 ranging from business: start-up\, growth\, and sustainability\, scaling-up\, turnaround\, succession\, or selling a business. \n\n \n\nYour instructor will show you how to open up the template and fill out each section to develop your plan. Many sections have a simple check the box system to create clarity and direction. In addition\, the Appendix is loaded with many practical success tips and strategies for marketing\, operations\, and finance. This seminar is designed for new and established business owners.\n\n \n\nWith a completed success plan\, you have the option to enter the 2023 Business Success Challenge\n\nContest. The contest began in January and runs through March. All participants will be judged throughout \n\nApril and the winner will be announced in May. \n\n \n\nThe winner receives\; chamber membership\, billboard ad\, business resources gift cards\, and access to business experts to help with access to capital\, accounting\, branding\, content creation\, graphic design\, marketing\, photography\, social media\, video\, and website expertise to answer questions for greater clarity and direction in 2023.
X-ALT-DESC;FMTTYPE=text/html:<span style="font-family:arial\,sans-serif\;">The author of the Success Planning Template will assist you in creating your success plan. This new &quot\;custom&quot\; business success planning template\, based on industry best practices\, makes it easier and faster to create a success plan for 2023.</span><br />\n&nbsp\;<br />\n<span style="color:#202124\;"><span style="font-family:arial\,sans-serif\;">Have a question about using the </span></span><span style="color:#222222\;"><span style="font-family:arial\,sans-serif\;">Success Planning Template or want to learn more about it\, </span></span><span style="color:#202124\;"><span style="font-family:arial\,sans-serif\;">the seminar helps l</span></span><span style="color:#222222\;"><span style="font-family:arial\,sans-serif\;">ocal businesses&nbsp\;face new challenges and have focuses in 2023 ranging from business: start-up\, growth\, and sustainability\, scaling-up\, turnaround\, succession\, or selling a business.&nbsp\;</span></span><br />\n&nbsp\;<br />\n<span style="color:#202124\;"><span style="font-family:arial\,sans-serif\;">Your instructor will show you how to </span></span><span style="color:#222222\;"><span style="font-family:arial\,sans-serif\;">open up the template and fill out each section to develop your plan. Many sections have a simple check the box&nbsp\;system to create&nbsp\;clarity and direction. In addition\, the Appendix is loaded with many practical success tips and strategies for </span></span><span style="color:#0A0A0A\;"><span style="font-family:helvetica\,sans-serif\;">marketing\, operations\, and finance. This seminar is designed for new and established business owners.</span></span><br />\n&nbsp\;<br />\n<span style="color:#0A0A0A\;"><span style="font-family:arial\,sans-serif\;">With a completed success plan\, </span></span><span style="color:black\;"><span style="font-family:arial\,sans-serif\;">you have the option to </span></span><span style="font-family:arial\,sans-serif\;">enter the <strong>2023 Business Success Challenge<br />\nContest</strong>. The contest began in </span><span style="background:white\;"><span style="color:#222222\;"><span style="font-family:arial\,sans-serif\;">January and runs through&nbsp\;March. All participants will be judged throughout </span></span></span><br />\n<span style="background:white\;"><span style="color:#222222\;"><span style="font-family:arial\,sans-serif\;">April and the winner will be announced in May. </span></span></span><br />\n&nbsp\;<br />\n<span style="background:white\;"><span style="color:#222222\;"><span style="font-family:arial\,sans-serif\;">The winner receives\; chamber membership\, billboard ad\, business resources gift cards\, and access to business experts to help with access to capital\, accounting\, branding\, content creation\, graphic design\, marketing\, photography\, social&nbsp\;media\, video\, and website expertise to answer questions for greater clarity and direction in 2023.&nbsp\;</span></span></span>
LOCATION:The Chamber | 204 Kanuga Rd\, Hendersonville
UID:e.2975.5334
SEQUENCE:3
DTSTAMP:20260422T111022Z
URL:https://business.hendersoncountychamber.org/events/details/kick-off-business-success-in-2023-with-a-plan-5334
END:VEVENT

END:VCALENDAR
