BEGIN:VCALENDAR
VERSION:2.0
PRODID:-//ChamberMaster//Event Calendar 2.0//EN
METHOD:PUBLISH
X-PUBLISHED-TTL:P3D
REFRESH-INTERVAL:P3D
CALSCALE:GREGORIAN
BEGIN:VEVENT
DTSTART:20230517T153000Z
DTEND:20230517T173000Z
X-MICROSOFT-CDO-ALLDAYEVENT:FALSE
SUMMARY:Learn Over Lunch: Instant Cash Flow
DESCRIPTION:What You'll Discover at This Exclusive Event:\n\n\n	Cash Flow Mastery: Learn the top strategies used by successful businesses to turbocharge their cash flow and boost their bottom line.\n	Profit-Generating Secrets: Discover proven techniques to maximize your profits\, reduce your expenses\, and optimize your financial performance.\n	Networking Opportunities: Connect with like-minded entrepreneurs\, industry experts\, and potential partners who can help you elevate your business to new heights.
X-ALT-DESC;FMTTYPE=text/html:<p>What You&#39\;ll Discover at This Exclusive Event:</p>\n\n<ul>\n	<li>Cash Flow Mastery: Learn the top strategies used by successful businesses to turbocharge their cash flow and boost their bottom line.</li>\n	<li>Profit-Generating Secrets: Discover proven techniques to maximize your profits\, reduce your expenses\, and optimize your financial performance.</li>\n	<li>Networking Opportunities: Connect with like-minded entrepreneurs\, industry experts\, and potential partners who can help you elevate your business to new heights.</li>\n</ul>\n
LOCATION:Asheville Home Builders Association office 14 Mimidis Lane\, Swannanoa NC
UID:e.2975.5543
SEQUENCE:3
DTSTAMP:20260422T090615Z
URL:https://business.hendersoncountychamber.org/events/details/learn-over-lunch-instant-cash-flow-5543
END:VEVENT

END:VCALENDAR
