BEGIN:VCALENDAR
VERSION:2.0
PRODID:-//ChamberMaster//Event Calendar 2.0//EN
METHOD:PUBLISH
X-PUBLISHED-TTL:P3D
REFRESH-INTERVAL:P3D
CALSCALE:GREGORIAN
BEGIN:VEVENT
DTSTART:20221109T170000Z
DTEND:20221109T183000Z
X-MICROSOFT-CDO-ALLDAYEVENT:FALSE
SUMMARY:Lunch & Learn: Housing/Homelessness in Henderson County
DESCRIPTION:Pisgah Legal Services (in concert with Housing Assistance Corporation\, Thrive\, and WNCSource) will lead a panel discussion on one of the area's leading challenges: lack of housing and homelessness.  Learn how local advocates are working together to prevent homelessness and create affordable housing opportunities in Henderson County. All community members are invited to join us for an informative program.  There is no charge to attend\, but registration is required.  Lunch is included thanks to sponsorship by Rich Cooke with Allen Tate/Beverly-Hanks\, Realtors.
X-ALT-DESC;FMTTYPE=text/html:Pisgah Legal Services (in concert with Housing Assistance Corporation\, Thrive\, and WNCSource) will lead a panel discussion on one of the area&#39\;s leading challenges: lack of housing and homelessness.&nbsp\; Learn how local advocates are working together to prevent homelessness and create affordable housing opportunities in Henderson County. All community members are invited to join us for an informative program.&nbsp\; There is no charge to attend\, but registration is required.&nbsp\; Lunch is included thanks to sponsorship by Rich Cooke with Allen Tate/Beverly-Hanks\, Realtors.&nbsp\;&nbsp\;
LOCATION:First United Methodist Church (Roy Johnson Room) 204 6th Avenue W. Hendersonville\, NC 28739 (free parking on-site in church lot)
UID:e.2975.4648
SEQUENCE:3
DTSTAMP:20260422T185852Z
URL:https://business.hendersoncountychamber.org/events/details/lunch-learn-housing-homelessness-in-henderson-county-4648
END:VEVENT

END:VCALENDAR
