BEGIN:VCALENDAR
VERSION:2.0
PRODID:-//ChamberMaster//Event Calendar 2.0//EN
METHOD:PUBLISH
X-PUBLISHED-TTL:P3D
REFRESH-INTERVAL:P3D
CALSCALE:GREGORIAN
BEGIN:VEVENT
DTSTART:20221120T003000Z
DTEND:20221120T023000Z
X-MICROSOFT-CDO-ALLDAYEVENT:FALSE
SUMMARY:MASTER SONGWRITERS IN CONCERT -- presented by B² Realty
DESCRIPTION:This intimate concert showcasing 4 local\, gifted songwriters taking turns telling the stories behind their songs and then performing them for the audience. This one-of-a-kind gathering will benefit Hendersonville Theatre's projector fund to raise money to bring film to downtown Hendersonville. Featuring area songwriters: David Childers\, Carson Sloan\, Josh Dunkin\, and Steve DuRose.
X-ALT-DESC;FMTTYPE=text/html:<span style="font-size:15px">This intimate concert showcasing 4 local\, gifted songwriters taking turns telling the stories behind their songs and then performing them for the audience. This one-of-a-kind gathering will benefit Hendersonville Theatre&rsquo\;s projector fund to raise money to bring film to downtown Hendersonville. Featuring area songwriters: David Childers\, Carson Sloan\, Josh Dunkin\, and Steve DuRose.</span><span style="font-size:15px">&nbsp\;</span>
LOCATION:Hendersonville Theatre 229 S. Washington Street Hendersonville\, NC 28739
UID:e.2975.4702
SEQUENCE:3
DTSTAMP:20260422T190443Z
URL:https://business.hendersoncountychamber.org/events/details/master-songwriters-in-concert-presented-by-b-realty-4702
END:VEVENT

END:VCALENDAR
