BEGIN:VCALENDAR
VERSION:2.0
PRODID:-//ChamberMaster//Event Calendar 2.0//EN
METHOD:PUBLISH
X-PUBLISHED-TTL:P3D
REFRESH-INTERVAL:P3D
CALSCALE:GREGORIAN
BEGIN:VEVENT
DTSTART:20230725T210000Z
DTEND:20230726T000000Z
X-MICROSOFT-CDO-ALLDAYEVENT:FALSE
SUMMARY:MEGA Business After Hours
DESCRIPTION:Join us for MEGA Business After Hours presented by AdventHealth Hendersonville\, Beverly-Hanks\, Optimum\, Horizon Heating & Air and Sam's Club!\nAll Chamber members\, their employees and families are invited to join us for this old fashioned cookout & pool party! This year\, we are pleased to invite members to participate in a business suit cannon ball contest! Awards will be given!\n\n\n\nThis is a kid friendly event\, so bring the whole family!\n\n**Vegetarian and Gluten Free Options will be available.**
X-ALT-DESC;FMTTYPE=text/html:Join us for MEGA Business After Hours presented by AdventHealth Hendersonville\, Beverly-Hanks\, Optimum\, Horizon Heating &amp\; Air and Sam&#39\;s Club!\n<p>All Chamber members\, their employees and families are invited to join us for this old fashioned cookout &amp\; pool party! This year\, we are pleased to invite members to participate in a business suit cannon ball contest! Awards will be given!<br />\n<br />\nThis is a kid friendly event\, so bring the whole family!</p>\n\n<p>**Vegetarian and Gluten Free Options will be available.**</p>\n
LOCATION:Hendersonville Elks Lodge Pool 546 N. Justice Street\, Hendersonville
UID:e.2975.5358
SEQUENCE:3
DTSTAMP:20260419T201200Z
URL:https://business.hendersoncountychamber.org/events/details/mega-business-after-hours-5358
END:VEVENT

END:VCALENDAR
