BEGIN:VCALENDAR
VERSION:2.0
PRODID:-//ChamberMaster//Event Calendar 2.0//EN
METHOD:PUBLISH
X-PUBLISHED-TTL:P3D
REFRESH-INTERVAL:P3D
CALSCALE:GREGORIAN
BEGIN:VEVENT
DTSTART:20230629T213000Z
DTEND:20230629T233000Z
X-MICROSOFT-CDO-ALLDAYEVENT:FALSE
SUMMARY:Mental Health and Substance Use Disorder Community Gathering
DESCRIPTION:Please Join Us For A Networking Event for Mental Health and Substance Use Disorder Professionals.  Sponsored by Pavillon and Cooper Riis.
X-ALT-DESC;FMTTYPE=text/html:Please Join Us For A Networking Event for Mental Health and Substance Use Disorder Professionals.&nbsp\; Sponsored by Pavillon and Cooper Riis.
LOCATION:Prisma Welcome Center at Unity Park\, 111 Wellborn St\, Greenville\, SC 29601
UID:e.2975.5766
SEQUENCE:3
DTSTAMP:20260419T221549Z
URL:https://business.hendersoncountychamber.org/events/details/mental-health-and-substance-use-disorder-community-gathering-5766
END:VEVENT

END:VCALENDAR
