BEGIN:VCALENDAR
VERSION:2.0
PRODID:-//ChamberMaster//Event Calendar 2.0//EN
METHOD:PUBLISH
X-PUBLISHED-TTL:P3D
REFRESH-INTERVAL:P3D
CALSCALE:GREGORIAN
BEGIN:VEVENT
DTSTART:20230814T133000Z
DTEND:20230814T141500Z
X-MICROSOFT-CDO-ALLDAYEVENT:FALSE
SUMMARY:Mindfulness Mondays
DESCRIPTION:Join us for Monday Mindfulness! We will be meeting via ZOOM from 9:30a-10:15a. The class is free to join and participate. Mindfulness is great for anyone interested in learning techniques to calm the mind and body. It's great for anxiety\, stress\, depression\, and pain. It also helps with focus\, concentration\, and overall wellbeing. \n\nIf you are curious and new to meditation\, or have a formal practice\, all are welcome.
X-ALT-DESC;FMTTYPE=text/html:<span style="font-family:comic sans ms">Join us for Monday Mindfulness! We will be meeting via ZOOM from 9:30a-10:15a. The class is free to join and participate. Mindfulness is great for anyone interested in learning techniques to calm the mind and body. It&#39\;s great for anxiety\, stress\, depression\, and pain. It also helps with focus\, concentration\, and overall wellbeing.&nbsp\;<br />\nIf you are curious and new to meditation\, or have a formal practice\, all are welcome.&nbsp\;</span>
LOCATION:Register to join at: SacredLivingWellness@gmail.com
UID:e.2975.5809
SEQUENCE:3
DTSTAMP:20260419T181925Z
URL:https://business.hendersoncountychamber.org/events/details/mindfulness-mondays-08-14-2023-5809
END:VEVENT

END:VCALENDAR
