BEGIN:VCALENDAR
VERSION:2.0
PRODID:-//ChamberMaster//Event Calendar 2.0//EN
METHOD:PUBLISH
X-PUBLISHED-TTL:P3D
REFRESH-INTERVAL:P3D
CALSCALE:GREGORIAN
BEGIN:VEVENT
DTSTART:20230514T150000Z
DTEND:20230514T180000Z
X-MICROSOFT-CDO-ALLDAYEVENT:FALSE
SUMMARY:Mother's Day Brunch at Kanuga
DESCRIPTION:Mother's Day Brunch at Kanuga includes Eggs Florentine\, Crispy Applewood Bacon\, Gouda Grits\, Herb Crusted Prime Rib\, Salmon with Lemon Dill Aioli\, Seasoned Roasted Potatoes\, Roasted Brussel Sprouts\, Kanuga Toast\, Salads\, Fresh Fruits and Berries\, Crepes\, Assorted Desserts\, New York Style Cheesecake. Bloody Mary's and mimosas are available.  \n\n \n\nHiking\, boating and swimming available as our guest.
X-ALT-DESC;FMTTYPE=text/html:<span style="color:#333333"><span style="font-family:arial\,sans-serif"><span style="font-size:10.0pt">Mother&#39\;s Day Brunch at Kanuga includes Eggs Florentine\, Crispy Applewood Bacon\, Gouda Grits\, Herb Crusted Prime Rib\, Salmon with Lemon Dill Aioli\, Seasoned Roasted Potatoes\, Roasted Brussel Sprouts\, Kanuga Toast\, Salads\, Fresh Fruits and Berries\, Crepes\, Assorted Desserts\,&nbsp\;</span></span></span>New York Style Cheesecake. Bloody Mary&rsquo\;s and mimosas are available.&nbsp\;&nbsp\;<br />\n&nbsp\;<br />\n<span style="color:#333333"><span style="font-family:arial\,sans-serif"><span style="font-size:10.0pt">Hiking\, boating and swimming available as our guest. </span></span></span>
LOCATION:Kanuga Inn and Lodging 130 Kanuga Chapel Drive Hendersonville\, NC 28739 www.staykanuga.org
UID:e.2975.5546
SEQUENCE:3
DTSTAMP:20260422T090948Z
URL:https://business.hendersoncountychamber.org/events/details/mother-s-day-brunch-at-kanuga-5546
END:VEVENT

END:VCALENDAR
