BEGIN:VCALENDAR
VERSION:2.0
PRODID:-//ChamberMaster//Event Calendar 2.0//EN
METHOD:PUBLISH
X-PUBLISHED-TTL:P3D
REFRESH-INTERVAL:P3D
CALSCALE:GREGORIAN
BEGIN:VEVENT
DTSTART:20231221T213000Z
DTEND:20231221T230000Z
X-MICROSOFT-CDO-ALLDAYEVENT:FALSE
SUMMARY:New Member Reception
DESCRIPTION:To the New Members of 2023: welcome and thank you - your investment in the Henderson County Chamber of Commerce allows us to continue to serve the businesses of Henderson County and our surrounding area by advocating for business through public policy\, and providing opportunities for members of our business community to network\, learn\, and succeed. \n\n\n\nWe offer various programs and opportunities throughout the year to help our members get engaged in the business community and now is the time to learn more about them! This is a fun\, laid-back chance to meet Chamber Staff\, Board of Directors Members\, and Ambassadors\, learn about the different offerings at the Chamber and what may best fit your business goals\, and network with fellow new members\n\n\n\nOrder of Event\n\n4:30 - 5:30 - Arrival\, Network and Mingle\n\n5:00 - 5:20 Presentation\n\n5:20 - 5:30 Meet and Greet Board and Staff of the Chamber\n\n5:30 - 6:00 Network and Mingle\, Depart
X-ALT-DESC;FMTTYPE=text/html:<div style="color: rgb(17\, 31\, 51)\; font-family: Arial\, Verdana\, Helvetica\, sans-serif\; font-size: 14px\; text-align: center\; white-space: pre-wrap\;">\n<p style="color: rgb(62\, 60\, 57)\; font-family: &quot\;Franklin Gothic Book&quot\;\, Arial\, Helvetica\, sans-serif\;"><em><strong>To the New Members of 2023:</strong></em>&nbsp\;welcome and thank you - your investment in the Henderson County Chamber of Commerce allows us to continue to serve the businesses of Henderson County and our surrounding area by advocating for business through public policy\, and providing opportunities for members of our business community to network\, learn\, and succeed.&nbsp\;<br />\n<br />\nWe offer various programs and opportunities throughout the year to help our members get engaged in the business community and now is the time to learn more about them! This is a fun\, laid-back chance to meet Chamber Staff\, Board of Directors Members\, and Ambassadors\, learn about the different offerings at the Chamber and what may best fit your business goals\, and network with fellow new members<br />\n<br />\nOrder of Event<br />\n4:30 - 5:30 - Arrival\, Network and Mingle<br />\n5:00 - 5:20 Presentation<br />\n5:20 - 5:30 Meet and Greet Board and Staff of the Chamber<br />\n5:30 - 6:00 Network and Mingle\, Depart</p>\n\n<p style="color: rgb(62\, 60\, 57)\; font-family: &quot\;Franklin Gothic Book&quot\;\, Arial\, Helvetica\, sans-serif\;">&#8203\;<br />\n<br />\n&nbsp\;</p>\n</div>\n
LOCATION:Claywood | 317 7th Ave E\, Hendersonville
UID:e.2975.6211
SEQUENCE:3
DTSTAMP:20260419T130541Z
URL:https://business.hendersoncountychamber.org/events/details/new-member-reception-6211
END:VEVENT

END:VCALENDAR
