BEGIN:VCALENDAR
VERSION:2.0
PRODID:-//ChamberMaster//Event Calendar 2.0//EN
METHOD:PUBLISH
X-PUBLISHED-TTL:P3D
REFRESH-INTERVAL:P3D
CALSCALE:GREGORIAN
BEGIN:VEVENT
DTSTART:20230828T160000Z
DTEND:20230828T170000Z
X-MICROSOFT-CDO-ALLDAYEVENT:FALSE
SUMMARY:**Postponed** Grand Opening & Ribbon Cutting: Bill Moore Community Park New Multi-Courts
DESCRIPTION:Join us as we celebrate the Grand Opening and Ribbon Cutting of the new multi-courts at the Bill Moore Community Park!\n\n\n\nThese multi-courts will offer spaces for pickleball\, tennis and basketball for the community!\n\n\n\nThank you to Duke Energy for sponsoring all events for the 2023 year!
X-ALT-DESC;FMTTYPE=text/html:Join us as we celebrate the Grand Opening and Ribbon Cutting of the new multi-courts at the Bill Moore Community Park!<br />\n<br />\nThese multi-courts will offer spaces for pickleball\, tennis and basketball for the community!<br />\n<br />\nThank you to Duke Energy for sponsoring all events for the 2023 year!
LOCATION:Bill Moore Community Park | 85 Howard Gap Rd\, Fletcher
UID:e.2975.6130
SEQUENCE:3
DTSTAMP:20260419T182439Z
URL:https://business.hendersoncountychamber.org/events/details/postponed-grand-opening-ribbon-cutting-bill-moore-community-park-new-multi-courts-6130
END:VEVENT

END:VCALENDAR
