BEGIN:VCALENDAR
VERSION:2.0
PRODID:-//ChamberMaster//Event Calendar 2.0//EN
METHOD:PUBLISH
X-PUBLISHED-TTL:P3D
REFRESH-INTERVAL:P3D
CALSCALE:GREGORIAN
BEGIN:VEVENT
DTSTART:20230427T210000Z
DTEND:20230427T230000Z
X-MICROSOFT-CDO-ALLDAYEVENT:FALSE
SUMMARY:Project Dignity's 6th Anniversary Party!
DESCRIPTION:Come celebrate our 6th Anniversary of Project Dignity! \n\nThursday April 27  5pm - 7pm at Guidon Brewing Company\n\nFree  admission\n\nRSVP to  https://projectdignity.eventbrite.com by April 14 to receive one free drink ticket\n\nSilent Auction\, Light food\, great Guidon beers!
X-ALT-DESC;FMTTYPE=text/html:<h2 style="font-style:italic\;">Come celebrate our 6th Anniversary of Project Dignity!&nbsp\;<br />\nThursday April 27&nbsp\; 5pm - 7pm at Guidon Brewing Company<br />\nFree&nbsp\; admission<br />\nRSVP to&nbsp\; https://projectdignity.eventbrite.com by April 14 to receive one free drink ticket<br />\nSilent Auction\, Light food\, great Guidon beers!</h2>\n
LOCATION:Guidon Brewing Company 415 8th Avenue East Hendersonville NC 28792
UID:e.2975.5368
SEQUENCE:3
DTSTAMP:20260422T110048Z
URL:https://business.hendersoncountychamber.org/events/details/project-dignity-s-6th-anniversary-party-5368
END:VEVENT

END:VCALENDAR
