BEGIN:VCALENDAR
VERSION:2.0
PRODID:-//ChamberMaster//Event Calendar 2.0//EN
METHOD:PUBLISH
X-PUBLISHED-TTL:P3D
REFRESH-INTERVAL:P3D
CALSCALE:GREGORIAN
BEGIN:VEVENT
DTSTART:20231005T193000Z
DTEND:20231005T210000Z
X-MICROSOFT-CDO-ALLDAYEVENT:FALSE
SUMMARY:Ribbon Cutting: ALLCHOICE Insurance
DESCRIPTION:Join us as we celebrate members ALLCHOICE Insurance\, at their new location!\n\nThis strategic move not only signifies ALLCHOICE's commitment to serving the community but also sets the stage for future growth and enhanced services throughout Western North Carolina.\n\n\n\nALLCHOICE Insurance is a well-established independent insurance agency serving clients throughout North Carolina. With a focus on personalized service and a wide range of insurance solutions\, ALLCHOICE aims to protect what matters most to its clients while providing expert guidance and unmatched customer support.\n\n\n\nRibbon Cutting Ceremony will be at 4:00 PM.\n\n\n\nThank you to Duke Energy for being the Presenting Sponsor of 2023 Ribbon Cuttings!
X-ALT-DESC;FMTTYPE=text/html:<p><span style="font-size:12px\;">Join us as we celebrate members&nbsp\;ALLCHOICE Insurance\, at their new location!<br />\n<span style="color: rgb(111\, 111\, 111)\;">This strategic move not only signifies ALLCHOICE&#39\;s commitment to serving the community but also sets the stage for future growth and enhanced services throughout Western North Carolina.</span><br />\n<br />\nALLCHOICE Insurance<span style="color: rgb(111\, 111\, 111)\;">&nbsp\;is a well-established independent insurance agency serving clients throughout North Carolina. With a focus on personalized service and a wide range of insurance solutions\, ALLCHOICE aims to protect what matters most to its clients while providing expert guidance and unmatched customer support.</span><br />\n<br />\nRibbon Cutting Ceremony will be at 4:00 PM.<br />\n<br />\nThank you to Duke Energy for being the Presenting Sponsor of 2023 Ribbon Cuttings!</span></p>\n
LOCATION:419 Short St\, Hendersonville
UID:e.2975.6132
SEQUENCE:3
DTSTAMP:20260419T162849Z
URL:https://business.hendersoncountychamber.org/events/details/ribbon-cutting-allchoice-insurance-6132
END:VEVENT

END:VCALENDAR
